BEGIN:VCALENDAR
VERSION:2.0
PRODID:-//Westmoreland County Libraries - ECPv6.15.11//NONSGML v1.0//EN
CALSCALE:GREGORIAN
METHOD:PUBLISH
X-WR-CALNAME:Westmoreland County Libraries
X-ORIGINAL-URL:https://www.wclibraries.org
X-WR-CALDESC:Events for Westmoreland County Libraries
REFRESH-INTERVAL;VALUE=DURATION:PT1H
X-Robots-Tag:noindex
X-PUBLISHED-TTL:PT1H
BEGIN:VTIMEZONE
TZID:UTC
BEGIN:STANDARD
TZOFFSETFROM:+0000
TZOFFSETTO:+0000
TZNAME:UTC
DTSTART:20250101T000000
END:STANDARD
END:VTIMEZONE
BEGIN:VEVENT
DTSTART;TZID=UTC:20260317T000000
DTEND;TZID=UTC:20260317T230000
DTSTAMP:20260421T173629
CREATED:20260221T181355Z
LAST-MODIFIED:20260221T181936Z
UID:36994-1773705600-1773788400@www.wclibraries.org
SUMMARY:Mount Pleasant NHA Art Exhibit
DESCRIPTION:Running from February into March we will be exhibiting art from Mount Pleasant Area School students.  The library will host an exhibit for the elementary\, junior high\, senior high\, and National Honor Society  with a small gala reception taking place during each exhibit.
URL:https://www.wclibraries.org/event/47936/
LOCATION:Mount Pleasant Public Library\, 120 S. Church Street\, Mount Pleasant\, PA\, 15666\, United States
CATEGORIES:Arts & Culture
END:VEVENT
BEGIN:VEVENT
DTSTART;TZID=UTC:20260316T183000
DTEND;TZID=UTC:20260316T193000
DTSTAMP:20260421T173629
CREATED:20260112T195145Z
LAST-MODIFIED:20260112T195228Z
UID:36375-1773685800-1773689400@www.wclibraries.org
SUMMARY:Pages from the Past Book Club
DESCRIPTION:Historical and Non-fiction for adults. This event is now held on the 3rd Monday of each month at 6:30 p.m. Book selection for this month is Pale Rider.  Register online at www.murrysvillelibrary.org or call the library at 724-327-1102. \nRegistration Required.
URL:https://www.wclibraries.org/event/47376/
LOCATION:Murrysville Community Library\, 4130 Sardis Road\, Murrysville\, PA\, 15668\, United States
CATEGORIES:Adult Program
END:VEVENT
BEGIN:VEVENT
DTSTART;TZID=UTC:20260316T180000
DTEND;TZID=UTC:20260316T190000
DTSTAMP:20260421T173629
CREATED:20250823T164102Z
LAST-MODIFIED:19700101T050000Z
UID:33972-1773684000-1773687600@www.wclibraries.org
SUMMARY:Mahjong!
DESCRIPTION:Come to the Scottdale Library the first and third Monday of the month (starting Sept 15th)at 6:00pm to play Mahjong! Everyone is welcome!
URL:https://www.wclibraries.org/event/45089/
LOCATION:Scottdale Public Library\, 106 Spring Street\, Scottdale\, PA\, 15683\, United States
END:VEVENT
BEGIN:VEVENT
DTSTART;TZID=UTC:20260316T180000
DTEND;TZID=UTC:20260316T190000
DTSTAMP:20260421T173629
CREATED:20250823T163225Z
LAST-MODIFIED:19700101T050000Z
UID:33912-1773684000-1773687600@www.wclibraries.org
SUMMARY:Mahjong!
DESCRIPTION:Come to the Scottdale Library the first and third Monday of the month (starting Sept 15th)at 6:00pm to play Mahjong! Everyone is welcome!
URL:https://www.wclibraries.org/event/45029/
LOCATION:Scottdale Public Library\, 106 Spring Street\, Scottdale\, PA\, 15683\, United States
END:VEVENT
BEGIN:VEVENT
DTSTART;TZID=UTC:20260316T180000
DTEND;TZID=UTC:20260316T190000
DTSTAMP:20260421T173629
CREATED:20250521T185050Z
LAST-MODIFIED:19700101T050000Z
UID:32210-1773684000-1773687600@www.wclibraries.org
SUMMARY:Book Club
DESCRIPTION:Join our book club for a lively discussion each month.
URL:https://www.wclibraries.org/event/43432/
LOCATION:Mount Pleasant Public Library\, 120 S. Church Street\, Mount Pleasant\, PA\, 15666\, United States
END:VEVENT
BEGIN:VEVENT
DTSTART;TZID=UTC:20260316T173000
DTEND;TZID=UTC:20260316T193000
DTSTAMP:20260421T173629
CREATED:20260221T150626Z
LAST-MODIFIED:19700101T050000Z
UID:36890-1773682200-1773689400@www.wclibraries.org
SUMMARY:Movie Mondays
DESCRIPTION:Join us at the Library to Enjoy a Movie with the Community with Free Popcorn and Paired Activities
URL:https://www.wclibraries.org/event/47832/
LOCATION:Mount Pleasant Public Library\, 120 S. Church Street\, Mount Pleasant\, PA\, 15666\, United States
END:VEVENT
BEGIN:VEVENT
DTSTART;TZID=UTC:20260316T173000
DTEND;TZID=UTC:20260316T183000
DTSTAMP:20260421T173629
CREATED:20260210T173932Z
LAST-MODIFIED:19700101T050000Z
UID:36711-1773682200-1773685800@www.wclibraries.org
SUMMARY:Friends of the Monessen Public Library
DESCRIPTION:The Friends of the library meet every month to discuss ways to support the library. Help support the Monessen Public Library by becoming a Friend.  Applications are available at the Front Desk.
URL:https://www.wclibraries.org/event/47660/
LOCATION:Monessen Public Library\, 326 Donner Avenue\, Monessen\, PA\, 15062\, United States
END:VEVENT
BEGIN:VEVENT
DTSTART;TZID=UTC:20260316T170000
DTEND;TZID=UTC:20260316T180000
DTSTAMP:20260421T173629
CREATED:20260206T152302Z
LAST-MODIFIED:20260206T152339Z
UID:36705-1773680400-1773684000@www.wclibraries.org
SUMMARY:Monday Meditation
DESCRIPTION:A warm welcome to our Monday night meditation experience! Facilitated by Eric D. Biseca\, N.D.\, we are opening the conference room for both beginners and experienced folks who want to explore conscious breathwork\, self-awareness and mindfulness in a secular and comfortable format. The facilitation will allow for instruction\, reflection\, and brief discussion while promoting community culture around mindfulness. We are excited to begin and look forward to all that can participate! Register online at www.murrysvillelibrary.org or call the library at 724-327-1102. \nRegistration Required.
URL:https://www.wclibraries.org/event/47654/
LOCATION:Murrysville Community Library\, 4130 Sardis Road\, Murrysville\, PA\, 15668\, United States
CATEGORIES:Adult Program
END:VEVENT
BEGIN:VEVENT
DTSTART;TZID=UTC:20260316T163000
DTEND;TZID=UTC:20260316T173000
DTSTAMP:20260421T173629
CREATED:20260116T155623Z
LAST-MODIFIED:19700101T050000Z
UID:36444-1773678600-1773682200@www.wclibraries.org
SUMMARY:Safari Storytime
DESCRIPTION:Safari story time is for grades K – 3. Come discover animals across the world through the library! This educational story time series will feature a different animal each month. Register online at www.murrysvillelibrary.org or call the library at 724-327-1102. \nRegistration Required.
URL:https://www.wclibraries.org/event/47413/
LOCATION:Murrysville Community Library\, 4130 Sardis Road\, Murrysville\, PA\, 15668\, United States
END:VEVENT
BEGIN:VEVENT
DTSTART;TZID=UTC:20260316T130000
DTEND;TZID=UTC:20260316T140000
DTSTAMP:20260421T173629
CREATED:20260217T171350Z
LAST-MODIFIED:20260217T171810Z
UID:36783-1773666000-1773669600@www.wclibraries.org
SUMMARY:Song and Rhyme Time
DESCRIPTION:Join Miss Karen for an at-home song and rhyme session to enjoy any time or anywhere.  You can follow along on our website or social media.
URL:https://www.wclibraries.org/event/47729/
LOCATION:Adams Memorial Library\, 1112 Ligonier Street\, Latrobe\, PA\, 15650\, United States
CATEGORIES:Children's Program
END:VEVENT
BEGIN:VEVENT
DTSTART;TZID=UTC:20260316T130000
DTEND;TZID=UTC:20260316T140000
DTSTAMP:20260421T173629
CREATED:20251222T014243Z
LAST-MODIFIED:19700101T050000Z
UID:35645-1773666000-1773669600@www.wclibraries.org
SUMMARY:Construction Crew at New Kensington
DESCRIPTION:All ages are invited to join us at our New Kensington library and become part of the construction crew using our building supplies!
URL:https://www.wclibraries.org/event/46673/
LOCATION:Peoples Library\, 880 Barnes Street\, New Kensington\, PA\, 15068\, United States
END:VEVENT
BEGIN:VEVENT
DTSTART;TZID=UTC:20260316T130000
DTEND;TZID=UTC:20260316T153000
DTSTAMP:20260421T173629
CREATED:20250923T153127Z
LAST-MODIFIED:19700101T050000Z
UID:34514-1773666000-1773675000@www.wclibraries.org
SUMMARY:RPL Knitters
DESCRIPTION:This club gathers to work on and share current projects. All skill levels (knit and crochet) are welcome.
URL:https://www.wclibraries.org/event/45607/
LOCATION:Rostraver Public Library\, 700 Plaza Drive\, Belle Vernon\, PA\, 15012\, United States
END:VEVENT
BEGIN:VEVENT
DTSTART;TZID=UTC:20260316T103000
DTEND;TZID=UTC:20260316T113000
DTSTAMP:20260421T173629
CREATED:20251201T170126Z
LAST-MODIFIED:20260217T152147Z
UID:35280-1773657000-1773660600@www.wclibraries.org
SUMMARY:NO Yoga
DESCRIPTION:YOGA cancelled this day.
URL:https://www.wclibraries.org/event/46309/
LOCATION:Rostraver Public Library\, 700 Plaza Drive\, Belle Vernon\, PA\, 15012\, United States
CATEGORIES:Fitness & Health
END:VEVENT
BEGIN:VEVENT
DTSTART;TZID=UTC:20260316T000000
DTEND;TZID=UTC:20260316T230000
DTSTAMP:20260421T173629
CREATED:20260221T181355Z
LAST-MODIFIED:20260221T181936Z
UID:36993-1773619200-1773702000@www.wclibraries.org
SUMMARY:Mount Pleasant NHA Art Exhibit
DESCRIPTION:Running from February into March we will be exhibiting art from Mount Pleasant Area School students.  The library will host an exhibit for the elementary\, junior high\, senior high\, and National Honor Society  with a small gala reception taking place during each exhibit.
URL:https://www.wclibraries.org/event/47935/
LOCATION:Mount Pleasant Public Library\, 120 S. Church Street\, Mount Pleasant\, PA\, 15666\, United States
CATEGORIES:Arts & Culture
END:VEVENT
BEGIN:VEVENT
DTSTART;TZID=UTC:20260316T000000
DTEND;TZID=UTC:20260316T230000
DTSTAMP:20260421T173629
CREATED:20260221T155144Z
LAST-MODIFIED:19700101T050000Z
UID:36919-1773619200-1773702000@www.wclibraries.org
SUMMARY:Outside the Lines Coloring Days
DESCRIPTION:Whether you’re young or old sometimes you can just need to take a moment to relax and enjoy the simple things.\nMaterials will be provided for all ages to sit back and enjoy the simple joy of some non-structured coloring time.
URL:https://www.wclibraries.org/event/47861/
LOCATION:Mount Pleasant Public Library\, 120 S. Church Street\, Mount Pleasant\, PA\, 15666\, United States
END:VEVENT
BEGIN:VEVENT
DTSTART;TZID=UTC:20260315T090000
DTEND;TZID=UTC:20260315T100000
DTSTAMP:20260421T173629
CREATED:20251222T020339Z
LAST-MODIFIED:20251222T023314Z
UID:35756-1773565200-1773568800@www.wclibraries.org
SUMMARY:Sunday Stories
DESCRIPTION:Visit our Facebook page after 9am to enjoy a story!
URL:https://www.wclibraries.org/event/46784/
LOCATION:Peoples Library\, 880 Barnes Street\, New Kensington\, PA\, 15068\, United States
CATEGORIES:Storytime
END:VEVENT
BEGIN:VEVENT
DTSTART;TZID=UTC:20260314T130000
DTEND;TZID=UTC:20260314T140000
DTSTAMP:20260421T173629
CREATED:20260227T170714Z
LAST-MODIFIED:19700101T050000Z
UID:37153-1773493200-1773496800@www.wclibraries.org
SUMMARY:Crochet Club
DESCRIPTION:Meet other fiber artists during our second crochet event! Artists of all ages are welcome to this event.  Please note\, this event does not offer an instructor.  \nRegistration Required.
URL:https://www.wclibraries.org/event/48088/
LOCATION:Penn Area Library\, 2001 Municipal Court\, Harrison City\, PA\, 15636\, United States
END:VEVENT
BEGIN:VEVENT
DTSTART;TZID=UTC:20260314T130000
DTEND;TZID=UTC:20260314T143000
DTSTAMP:20260421T173629
CREATED:20260127T165957Z
LAST-MODIFIED:20260217T195017Z
UID:36540-1773493200-1773498600@www.wclibraries.org
SUMMARY:Plant-Based Nutrition
DESCRIPTION:The group meets the 2nd Saturday of each month.  Register online at www.murrysvillelibrary.org or call the library at 724-327-1102. They will meet in the library in Conference Room 1.  Programming details to follow. \nRegistration Required.
URL:https://www.wclibraries.org/event/47502/
LOCATION:Murrysville Community Library\, 4130 Sardis Road\, Murrysville\, PA\, 15668\, United States
CATEGORIES:Adult Program
END:VEVENT
BEGIN:VEVENT
DTSTART;TZID=UTC:20260314T110000
DTEND;TZID=UTC:20260314T120000
DTSTAMP:20260421T173629
CREATED:20260120T141842Z
LAST-MODIFIED:20260120T141934Z
UID:36457-1773486000-1773489600@www.wclibraries.org
SUMMARY:Universal Curiosity
DESCRIPTION:Learn why the universe works the way it does and discuss current events happening in space. For children ages 8 – 12\, facilitated by Franklin Regional student Roger Huang. Register online at www.murrysvillelibrary.org or call the library at 724-327-1102. \nRegistration Required.
URL:https://www.wclibraries.org/event/47426/
LOCATION:Murrysville Community Library\, 4130 Sardis Road\, Murrysville\, PA\, 15668\, United States
CATEGORIES:Children's Program
END:VEVENT
BEGIN:VEVENT
DTSTART;TZID=UTC:20260314T100000
DTEND;TZID=UTC:20260314T120000
DTSTAMP:20260421T173629
CREATED:20260421T185301Z
LAST-MODIFIED:20260421T185328Z
UID:37596-1773482400-1773489600@www.wclibraries.org
SUMMARY:Mah Jongg
DESCRIPTION:For both experienced and beginning Mah Jongg players. Sets and cards\nprovided\, but players may bring their own.
URL:https://www.wclibraries.org/event/47332/
LOCATION:Greensburg Hempfield Area Library\, 237 S. Pennsylvania Avenue\, Greensburg\, PA\, 15601\, United States
CATEGORIES:Adult Program
END:VEVENT
BEGIN:VEVENT
DTSTART;TZID=UTC:20260314T100000
DTEND;TZID=UTC:20260314T110000
DTSTAMP:20260421T173629
CREATED:20251119T215214Z
LAST-MODIFIED:19700101T050000Z
UID:35163-1773482400-1773486000@www.wclibraries.org
SUMMARY:Chess Club
DESCRIPTION:Always welcoming new members!
URL:https://www.wclibraries.org/event/46193/
LOCATION:Mount Pleasant Public Library\, 120 S. Church Street\, Mount Pleasant\, PA\, 15666\, United States
END:VEVENT
BEGIN:VEVENT
DTSTART;TZID=UTC:20260314T000000
DTEND;TZID=UTC:20260314T230000
DTSTAMP:20260421T173629
CREATED:20260221T181355Z
LAST-MODIFIED:20260221T181936Z
UID:36992-1773446400-1773529200@www.wclibraries.org
SUMMARY:Mount Pleasant NHA Art Exhibit
DESCRIPTION:Running from February into March we will be exhibiting art from Mount Pleasant Area School students.  The library will host an exhibit for the elementary\, junior high\, senior high\, and National Honor Society  with a small gala reception taking place during each exhibit.
URL:https://www.wclibraries.org/event/47934/
LOCATION:Mount Pleasant Public Library\, 120 S. Church Street\, Mount Pleasant\, PA\, 15666\, United States
CATEGORIES:Arts & Culture
END:VEVENT
BEGIN:VEVENT
DTSTART;TZID=UTC:20260313T170000
DTEND;TZID=UTC:20260313T180000
DTSTAMP:20260421T173629
CREATED:20260227T162402Z
LAST-MODIFIED:19700101T050000Z
UID:37142-1773421200-1773424800@www.wclibraries.org
SUMMARY:Unscripted Writing Workshop
DESCRIPTION:Have stories\, poems\, or ideas you want to explore? Join our Creative Writing Workshop â€” a welcoming space for teens and young adults to develop their writing skills and find their voice. Whether youâ€™re just starting out or already working on a project\, this workshop offers prompts\, discussion\, and thoughtful feedback to help you grow as a writer. \nRegistration Required.
URL:https://www.wclibraries.org/event/48077/
LOCATION:Penn Area Library\, 2001 Municipal Court\, Harrison City\, PA\, 15636\, United States
END:VEVENT
BEGIN:VEVENT
DTSTART;TZID=UTC:20260313T164500
DTEND;TZID=UTC:20260313T170000
DTSTAMP:20260421T173629
CREATED:20260127T164304Z
LAST-MODIFIED:20260223T190048Z
UID:36536-1773420300-1773421200@www.wclibraries.org
SUMMARY:Dog Reading Pals
DESCRIPTION:Reading to dogs is a proven method to improve reading skills. Stop by and read to one of our therapy dogs. Children may bring their own book or get one at the library. DRP meets the 2nd Friday of each month. Register online at www.murrysvillelibrary.org or call the library at 724-327-1102. Please register each child in your family for a 15 minute time slot. \nRegistration Required.
URL:https://www.wclibraries.org/event/47498/
LOCATION:Murrysville Community Library\, 4130 Sardis Road\, Murrysville\, PA\, 15668\, United States
CATEGORIES:Children's Program
END:VEVENT
BEGIN:VEVENT
DTSTART;TZID=UTC:20260313T163000
DTEND;TZID=UTC:20260313T164500
DTSTAMP:20260421T173629
CREATED:20260127T164215Z
LAST-MODIFIED:20260223T190005Z
UID:36535-1773419400-1773420300@www.wclibraries.org
SUMMARY:Dog Reading Pals
DESCRIPTION:Reading to dogs is a proven method to improve reading skills. Stop by and read to one of our therapy dogs. Children may bring their own book or get one at the library. DRP meets the 2nd Friday of each month. Register online at www.murrysvillelibrary.org or call the library at 724-327-1102. Please register each child in your family for a 15 minute time slot. \nRegistration Required.
URL:https://www.wclibraries.org/event/47497/
LOCATION:Murrysville Community Library\, 4130 Sardis Road\, Murrysville\, PA\, 15668\, United States
CATEGORIES:Children's Program
END:VEVENT
BEGIN:VEVENT
DTSTART;TZID=UTC:20260313T161500
DTEND;TZID=UTC:20260313T163000
DTSTAMP:20260421T173629
CREATED:20260127T164109Z
LAST-MODIFIED:20260223T185937Z
UID:36534-1773418500-1773419400@www.wclibraries.org
SUMMARY:Dog Reading Pals
DESCRIPTION:Reading to dogs is a proven method to improve reading skills. Stop by and read to one of our therapy dogs. Children may bring their own book or get one at the library. DRP meets the 2nd Friday of each month. Register online at www.murrysvillelibrary.org or call the library at 724-327-1102. Please register each child in your family for a 15 minute time slot. \nRegistration Required.
URL:https://www.wclibraries.org/event/47496/
LOCATION:Murrysville Community Library\, 4130 Sardis Road\, Murrysville\, PA\, 15668\, United States
CATEGORIES:Children's Program
END:VEVENT
BEGIN:VEVENT
DTSTART;TZID=UTC:20260313T160000
DTEND;TZID=UTC:20260313T161500
DTSTAMP:20260421T173629
CREATED:20260127T161712Z
LAST-MODIFIED:20260223T185859Z
UID:36533-1773417600-1773418500@www.wclibraries.org
SUMMARY:Dog Reading Pals
DESCRIPTION:Reading to dogs is a proven method to improve reading skills. Stop by and read to one of our therapy dogs. Children may bring their own book or get one at the library. DRP meets the 2nd Friday of each month.  Register online at www.murrysvillelibrary.org or call the library at 724-327-1102. Please register each child in your family for a 15 minute time slot. \nRegistration Required.
URL:https://www.wclibraries.org/event/47495/
LOCATION:Murrysville Community Library\, 4130 Sardis Road\, Murrysville\, PA\, 15668\, United States
CATEGORIES:Children's Program
END:VEVENT
BEGIN:VEVENT
DTSTART;TZID=UTC:20260313T130000
DTEND;TZID=UTC:20260313T140000
DTSTAMP:20260421T173629
CREATED:20251222T020021Z
LAST-MODIFIED:19700101T050000Z
UID:35733-1773406800-1773410400@www.wclibraries.org
SUMMARY:Construction Crew at Lower Burrell
DESCRIPTION:All ages are invited to join us at our Lower Burrell library and become part of the construction crew using our building supplies!
URL:https://www.wclibraries.org/event/46761/
LOCATION:Peoples Library\, 880 Barnes Street\, New Kensington\, PA\, 15068\, United States
END:VEVENT
BEGIN:VEVENT
DTSTART;TZID=UTC:20260313T100000
DTEND;TZID=UTC:20260313T104500
DTSTAMP:20260421T173629
CREATED:20260203T154659Z
LAST-MODIFIED:19700101T050000Z
UID:36641-1773396000-1773398700@www.wclibraries.org
SUMMARY:Storytime with Ms. Sydney
DESCRIPTION:Storytime is designed for children ages 3-6 years old. Each session includes stories\, songs\, and a craft activity. Please register for each individual session. Register online at www.murrysvillelibrary.org or call the library at 724-327-1102. \nRegistration Required.
URL:https://www.wclibraries.org/event/47599/
LOCATION:Murrysville Community Library\, 4130 Sardis Road\, Murrysville\, PA\, 15668\, United States
END:VEVENT
BEGIN:VEVENT
DTSTART;TZID=UTC:20260312T190000
DTEND;TZID=UTC:20260312T200000
DTSTAMP:20260421T173629
CREATED:20251117T204349Z
LAST-MODIFIED:19700101T050000Z
UID:35096-1773342000-1773345600@www.wclibraries.org
SUMMARY:Young Adult Book Club
DESCRIPTION:Calling all lovers of young adult literature!\nJoin Crystal for a fun and engaging book discussion!\nBooks are available at the Library! Stop in any time we are open for your copy.\nQuestions? Call 724.446.9940 or email sewickley@wclibraries.org!
URL:https://www.wclibraries.org/event/46128/
LOCATION:Sewickley Township Public Library\, 201 Highland Avenue\, Herminie\, PA\, 15637\, United States
END:VEVENT
END:VCALENDAR