BEGIN:VCALENDAR
VERSION:2.0
PRODID:-//Westmoreland County Libraries - ECPv6.15.11//NONSGML v1.0//EN
CALSCALE:GREGORIAN
METHOD:PUBLISH
X-WR-CALNAME:Westmoreland County Libraries
X-ORIGINAL-URL:https://www.wclibraries.org
X-WR-CALDESC:Events for Westmoreland County Libraries
REFRESH-INTERVAL;VALUE=DURATION:PT1H
X-Robots-Tag:noindex
X-PUBLISHED-TTL:PT1H
BEGIN:VTIMEZONE
TZID:UTC
BEGIN:STANDARD
TZOFFSETFROM:+0000
TZOFFSETTO:+0000
TZNAME:UTC
DTSTART:20250101T000000
END:STANDARD
END:VTIMEZONE
BEGIN:VEVENT
DTSTART;TZID=UTC:20260611T183000
DTEND;TZID=UTC:20260611T203000
DTSTAMP:20260422T190553
CREATED:20260422T221151Z
LAST-MODIFIED:19700101T050000Z
UID:37635-1781202600-1781209800@www.wclibraries.org
SUMMARY:Apple n Arts Meeting
DESCRIPTION:The Apple n Arts Committee will meet in the community room.
URL:https://www.wclibraries.org/event/48538/
LOCATION:Delmont Public Library\, 75 School Rd\, Delmont\, PA\, 15626\, United States
END:VEVENT
BEGIN:VEVENT
DTSTART;TZID=UTC:20260611T173000
DTEND;TZID=UTC:20260611T184500
DTSTAMP:20260422T190553
CREATED:20260420T205425Z
LAST-MODIFIED:20260420T205653Z
UID:37561-1781199000-1781203500@www.wclibraries.org
SUMMARY:Quilting Workshop: Bury Yourself in Boro Stitching
DESCRIPTION:Join textile artist Peggy Black for a hands-on workshop exploring the beauty and history of this traditional Japanese mending technique. Rooted in resourcefulness and creativity\, boro uses layered fabric scraps and simple running stitches to repair and strengthen worn textiles–transforming them into something both functional and artful. \nOver the course of four sessions\, participants will learn foundational layering and stitching methods while creating their own small\, quilted patch. Your finished piece can be transformed into a framed artwork\, a decorative pillow accent\, or a one-of-a-kind patch for clothing. \nAll supplies are provided–just bring your curiosity and creativity. \nThis four-part workshop will be held June 2\, 4\, 9\, and 11 from 5:30-6:45 PM. Please plan on attending all four sessions to complete your project. \nOpen to ages 16 and up. Space is limited\, and registration is required. Please visit ligonierlibrary.org/events to register. Registration will close on 5/25. \nThis workshop is made possible by the generous support of the Southern Alleghenies Museum of Art’s Artist Residency Program.
URL:https://www.wclibraries.org/event/48479/
LOCATION:Ligonier Valley Library\, 120 West Main Street\, Ligonier\, PA\, 15668\, United States
CATEGORIES:Arts & Culture
END:VEVENT
BEGIN:VEVENT
DTSTART;TZID=UTC:20260611T170000
DTEND;TZID=UTC:20260611T180000
DTSTAMP:20260422T190553
CREATED:20251229T205135Z
LAST-MODIFIED:20251229T205212Z
UID:35983-1781197200-1781200800@www.wclibraries.org
SUMMARY:Family Crafts Studio
DESCRIPTION:Monthly open crafts studio time for families with children preschool age and up.\nWe provide a variety of craft supplies for self-guided creativity.\nFamilies may start a project\, bring in works-in-progress from home\, or return each month to continue building over time.\nAn optional featured craft is sometimes available. \nAdult participation required. | Drop-in program. | Come when you can!
URL:https://www.wclibraries.org/event/47004/
LOCATION:Ligonier Valley Library\, 120 West Main Street\, Ligonier\, PA\, 15668\, United States
CATEGORIES:Arts & Culture
END:VEVENT
BEGIN:VEVENT
DTSTART;TZID=UTC:20260611T130000
DTEND;TZID=UTC:20260611T150000
DTSTAMP:20260422T190553
CREATED:20260422T220855Z
LAST-MODIFIED:19700101T050000Z
UID:37634-1781182800-1781190000@www.wclibraries.org
SUMMARY:Private Meeting
DESCRIPTION:There will be a private meeting in the community room.
URL:https://www.wclibraries.org/event/48537/
LOCATION:Delmont Public Library\, 75 School Rd\, Delmont\, PA\, 15626\, United States
END:VEVENT
BEGIN:VEVENT
DTSTART;TZID=UTC:20260610T180000
DTEND;TZID=UTC:20260610T190000
DTSTAMP:20260422T190553
CREATED:20260422T220056Z
LAST-MODIFIED:19700101T050000Z
UID:37633-1781114400-1781118000@www.wclibraries.org
SUMMARY:Western Pennsylvania in the Revolutionary Era
DESCRIPTION:Storyteller Alan Irvine will present stories of life in the late 1700’s out on the frontier. Tales of the French and Indian War\, Pontiac’s War\, raids in the night and the struggle to survive\, Virginia’s Invasion of Pittsburgh\, the dramatic uprising of the Whiskey Rebellion\, and Pittsburgh’s rise as the Gateway to the West. Please register at delmontlibrary.org \nRegistration Required.
URL:https://www.wclibraries.org/event/48536/
LOCATION:Delmont Public Library\, 75 School Rd\, Delmont\, PA\, 15626\, United States
END:VEVENT
BEGIN:VEVENT
DTSTART;TZID=UTC:20260610T173000
DTEND;TZID=UTC:20260610T190000
DTSTAMP:20260422T190553
CREATED:20260302T191851Z
LAST-MODIFIED:20260302T191921Z
UID:37175-1781112600-1781118000@www.wclibraries.org
SUMMARY:The Write Time
DESCRIPTION:Having trouble staying focused while writing at home? Need some writing accountability partners? \nJoin us for a monthly Write-in at the library. Bring your laptop or pen and paper along with your work in progress\, outline\, or ideas and sit alongside fellow writers while you work on your individual projects. \nThis isnâ€™t a critique program. No one will be asked to share anything — just come and enjoy a quiet\, focused â€œWrite Time.â€  \nThis program is for teens through adults. Please register in advance. \nRegistration Required.
URL:https://www.wclibraries.org/event/48110/
LOCATION:Greensburg Hempfield Area Library\, 237 S. Pennsylvania Avenue\, Greensburg\, PA\, 15601\, United States
CATEGORIES:Adult Program,Teen Program
END:VEVENT
BEGIN:VEVENT
DTSTART;TZID=UTC:20260610T171500
DTEND;TZID=UTC:20260610T181500
DTSTAMP:20260422T190553
CREATED:20260210T174028Z
LAST-MODIFIED:19700101T050000Z
UID:36722-1781111700-1781115300@www.wclibraries.org
SUMMARY:Trustees of the Monessen Public Library
DESCRIPTION:The Board of Trustees of the Monessen Public Library will meet.  The meeting is open to the public
URL:https://www.wclibraries.org/event/47671/
LOCATION:Monessen Public Library\, 326 Donner Avenue\, Monessen\, PA\, 15062\, United States
END:VEVENT
BEGIN:VEVENT
DTSTART;TZID=UTC:20260610T130000
DTEND;TZID=UTC:20260610T143000
DTSTAMP:20260422T190553
CREATED:20250722T141405Z
LAST-MODIFIED:19700101T050000Z
UID:33017-1781096400-1781101800@www.wclibraries.org
SUMMARY:RPL Book Club
DESCRIPTION:Readers gather each month to discuss that month’s pick. Books are available at the library.
URL:https://www.wclibraries.org/event/44191/
LOCATION:Rostraver Public Library\, 700 Plaza Drive\, Belle Vernon\, PA\, 15012\, United States
END:VEVENT
BEGIN:VEVENT
DTSTART;TZID=UTC:20260610T110000
DTEND;TZID=UTC:20260610T130000
DTSTAMP:20260422T190553
CREATED:20260422T214948Z
LAST-MODIFIED:20260422T215217Z
UID:37632-1781089200-1781096400@www.wclibraries.org
SUMMARY:Book Work
DESCRIPTION:Our processors will work on books.
URL:https://www.wclibraries.org/event/48535/
LOCATION:Delmont Public Library\, 75 School Rd\, Delmont\, PA\, 15626\, United States
CATEGORIES:Volunteer
END:VEVENT
BEGIN:VEVENT
DTSTART;TZID=UTC:20260610T093000
DTEND;TZID=UTC:20260610T101500
DTSTAMP:20260422T190553
CREATED:20260422T210748Z
LAST-MODIFIED:20260422T215121Z
UID:37613-1781083800-1781086500@www.wclibraries.org
SUMMARY:Frail-Proof Fitness
DESCRIPTION:After the outside class\, Amanda will provide information about nutrition for midlife women.   \nRegistration Required.
URL:https://www.wclibraries.org/event/48516/
LOCATION:Delmont Public Library\, 75 School Rd\, Delmont\, PA\, 15626\, United States
CATEGORIES:Fitness & Health
END:VEVENT
BEGIN:VEVENT
DTSTART;TZID=UTC:20260610T084500
DTEND;TZID=UTC:20260610T093000
DTSTAMP:20260422T190553
CREATED:20260422T210502Z
LAST-MODIFIED:19700101T050000Z
UID:37612-1781081100-1781083800@www.wclibraries.org
SUMMARY:Frail-Proof Fitness
DESCRIPTION:Outdoor strength training for midlife women on the Delmont Library porch every Wednesday at 8:45 (NO class June 17 or July 8). Bring 5 lb weights & resistance band if you have them. Every other week there will be an optional 30-45 minutes talk about nutrition after class. Please register at delmontlibrary.org.  Hosted by Amanda Staymates\, personal trainer and Trim Healthy Movement certified. \nRegistration Required.
URL:https://www.wclibraries.org/event/48515/
LOCATION:Delmont Public Library\, 75 School Rd\, Delmont\, PA\, 15626\, United States
END:VEVENT
BEGIN:VEVENT
DTSTART;TZID=UTC:20260609T190000
DTEND;TZID=UTC:20260609T203000
DTSTAMP:20260422T190553
CREATED:20260422T214718Z
LAST-MODIFIED:19700101T050000Z
UID:37631-1781031600-1781037000@www.wclibraries.org
SUMMARY:Delmont Visionary Committee meeting
DESCRIPTION:Members of the Visionary Committee will meet in the community room.
URL:https://www.wclibraries.org/event/48534/
LOCATION:Delmont Public Library\, 75 School Rd\, Delmont\, PA\, 15626\, United States
END:VEVENT
BEGIN:VEVENT
DTSTART;TZID=UTC:20260609T180000
DTEND;TZID=UTC:20260609T190000
DTSTAMP:20260422T190553
CREATED:20260417T154817Z
LAST-MODIFIED:19700101T050000Z
UID:37516-1781028000-1781031600@www.wclibraries.org
SUMMARY:Teen Writing Club
DESCRIPTION:Are you a teenager who wants to write? Join our Teen Writing Club\, a club full of writers who are eager to learn\, share writing tips\, participate in write-in’s\, and share their work with peers. Open to teens age 12-18. Club is every 2nd Tuesday of the month. No registration needed.
URL:https://www.wclibraries.org/event/48434/
LOCATION:Murrysville Community Library\, 4130 Sardis Road\, Murrysville\, PA\, 15668\, United States
END:VEVENT
BEGIN:VEVENT
DTSTART;TZID=UTC:20260609T173000
DTEND;TZID=UTC:20260609T184500
DTSTAMP:20260422T190553
CREATED:20260420T205425Z
LAST-MODIFIED:20260420T205653Z
UID:37560-1781026200-1781030700@www.wclibraries.org
SUMMARY:Quilting Workshop: Bury Yourself in Boro Stitching
DESCRIPTION:Join textile artist Peggy Black for a hands-on workshop exploring the beauty and history of this traditional Japanese mending technique. Rooted in resourcefulness and creativity\, boro uses layered fabric scraps and simple running stitches to repair and strengthen worn textiles–transforming them into something both functional and artful. \nOver the course of four sessions\, participants will learn foundational layering and stitching methods while creating their own small\, quilted patch. Your finished piece can be transformed into a framed artwork\, a decorative pillow accent\, or a one-of-a-kind patch for clothing. \nAll supplies are provided–just bring your curiosity and creativity. \nThis four-part workshop will be held June 2\, 4\, 9\, and 11 from 5:30-6:45 PM. Please plan on attending all four sessions to complete your project. \nOpen to ages 16 and up. Space is limited\, and registration is required. Please visit ligonierlibrary.org/events to register. Registration will close on 5/25. \nThis workshop is made possible by the generous support of the Southern Alleghenies Museum of Art’s Artist Residency Program.
URL:https://www.wclibraries.org/event/48478/
LOCATION:Ligonier Valley Library\, 120 West Main Street\, Ligonier\, PA\, 15668\, United States
CATEGORIES:Arts & Culture
END:VEVENT
BEGIN:VEVENT
DTSTART;TZID=UTC:20260609T173000
DTEND;TZID=UTC:20260609T190000
DTSTAMP:20260422T190553
CREATED:20260417T155258Z
LAST-MODIFIED:20260417T155803Z
UID:37517-1781026200-1781031600@www.wclibraries.org
SUMMARY:ESL Conversation Group
DESCRIPTION:Join us for an English Conversation Group on the 2nd Tuesday of the month. Meet other adult English language learners for informal and guided conversation practice. This is a virtual program. Join us on Zoom from the comfort of your home! Please provide your email when registering to receive the Zoom link. Open to all English language learners. The moderator is professional English as a Second Language (ESL) teacher with over 15 years of experience. Register online at www.murrysvillelibrary.org or call the library at 724-327-1102. \nRegistration Required.
URL:https://www.wclibraries.org/event/48435/
LOCATION:Murrysville Community Library\, 4130 Sardis Road\, Murrysville\, PA\, 15668\, United States
CATEGORIES:Adult Program
END:VEVENT
BEGIN:VEVENT
DTSTART;TZID=UTC:20260609T170000
DTEND;TZID=UTC:20260609T180000
DTSTAMP:20260422T190553
CREATED:20260417T154614Z
LAST-MODIFIED:19700101T050000Z
UID:37515-1781024400-1781028000@www.wclibraries.org
SUMMARY:Teen Advisory Board (TAB)
DESCRIPTION:TAB is a group of people ages 12-18 who help the library run teen-centered programs\, recommend young adult books/movies for the library to buy\, promote the library to their friends\, and generally help the library better serve teens. Learn more at www.murrysvillelibrary.org/teen-services. The group meets the second Tuesday of each month. No registration required
URL:https://www.wclibraries.org/event/48433/
LOCATION:Murrysville Community Library\, 4130 Sardis Road\, Murrysville\, PA\, 15668\, United States
END:VEVENT
BEGIN:VEVENT
DTSTART;TZID=UTC:20260609T143000
DTEND;TZID=UTC:20260609T160000
DTSTAMP:20260422T190553
CREATED:20260422T214606Z
LAST-MODIFIED:19700101T050000Z
UID:37630-1781015400-1781020800@www.wclibraries.org
SUMMARY:Tops Group
DESCRIPTION:Members of Tops will meet in the community room.
URL:https://www.wclibraries.org/event/48533/
LOCATION:Delmont Public Library\, 75 School Rd\, Delmont\, PA\, 15626\, United States
END:VEVENT
BEGIN:VEVENT
DTSTART;TZID=UTC:20260608T183000
DTEND;TZID=UTC:20260608T193000
DTSTAMP:20260422T190553
CREATED:20260422T214515Z
LAST-MODIFIED:19700101T050000Z
UID:37629-1780943400-1780947000@www.wclibraries.org
SUMMARY:Friends of Delmont Public Library
DESCRIPTION:Come join the Friends of Delmont Public Library for their monthly meeting and share your thoughts and ideas.  New faces\, new ideas\, and suggestions are always welcome!
URL:https://www.wclibraries.org/event/48532/
LOCATION:Delmont Public Library\, 75 School Rd\, Delmont\, PA\, 15626\, United States
END:VEVENT
BEGIN:VEVENT
DTSTART;TZID=UTC:20260608T183000
DTEND;TZID=UTC:20260608T193000
DTSTAMP:20260422T190553
CREATED:20260417T154301Z
LAST-MODIFIED:19700101T050000Z
UID:37514-1780943400-1780947000@www.wclibraries.org
SUMMARY:What's New in the World of Wellness?
DESCRIPTION:Wellness isn’t easy. Many people might often think of the EE concept of wellness: exercise and eating (nutrition). However\, other elements\, such as social wellness\, can add to our life satisfaction. In this presentation\, John McCarthy Ph.D.\, will discuss a general model of wellness\, explore insights from the World Happiness Report\, and highlight recent findings on well-being. An international educator\, author\, and Psychology lecturer\, Dr. McCarthy has presented in 14 countries on creative problem solving\, innovation\, solution-focused thinking\, and positive psychology. He is the author of two books\, blogs for Psychology Today\, and has been featured in numerous national publications. Register online at www.murrysvillelibrary.org or call the library at 724-327-1102. \nRegistration Required.
URL:https://www.wclibraries.org/event/48432/
LOCATION:Murrysville Community Library\, 4130 Sardis Road\, Murrysville\, PA\, 15668\, United States
END:VEVENT
BEGIN:VEVENT
DTSTART;TZID=UTC:20260608T180000
DTEND;TZID=UTC:20260608T190000
DTSTAMP:20260422T190553
CREATED:20260417T153929Z
LAST-MODIFIED:20260417T154037Z
UID:37513-1780941600-1780945200@www.wclibraries.org
SUMMARY:Anime Club
DESCRIPTION:Are you a fan of Japanese anime and/or manga from the ages of 13-18? The Anime Club is for you! Join fellow fans of both anime and manga as a place to talk about and recommend your favorites\, do crafts and themed activities\, and enjoy free snacks. No registration needed!
URL:https://www.wclibraries.org/event/48431/
LOCATION:Murrysville Community Library\, 4130 Sardis Road\, Murrysville\, PA\, 15668\, United States
CATEGORIES:Teen Program
END:VEVENT
BEGIN:VEVENT
DTSTART;TZID=UTC:20260608T173000
DTEND;TZID=UTC:20260608T183000
DTSTAMP:20260422T190553
CREATED:20250722T141739Z
LAST-MODIFIED:19700101T050000Z
UID:33064-1780939800-1780943400@www.wclibraries.org
SUMMARY:LEGO Club!
DESCRIPTION:Fun for the whole family. Your creations can be inspired by our monthly theme or wherever your imagination takes you…\nNO registration required.
URL:https://www.wclibraries.org/event/44238/
LOCATION:Rostraver Public Library\, 700 Plaza Drive\, Belle Vernon\, PA\, 15012\, United States
END:VEVENT
BEGIN:VEVENT
DTSTART;TZID=UTC:20260608T163000
DTEND;TZID=UTC:20260608T173000
DTSTAMP:20260422T190553
CREATED:20260417T153703Z
LAST-MODIFIED:19700101T050000Z
UID:37512-1780936200-1780939800@www.wclibraries.org
SUMMARY:Pokemon Club
DESCRIPTION:Calling all Pokemon trainers! Hang out with other fans to chat about and play Pokemon! The club meets once a month on the 2nd Monday of the month\, for grades K-6. Register online at www.murrysvillelibrary.org or call the library at 724-327-1102. \nRegistration Required.
URL:https://www.wclibraries.org/event/48430/
LOCATION:Murrysville Community Library\, 4130 Sardis Road\, Murrysville\, PA\, 15668\, United States
END:VEVENT
BEGIN:VEVENT
DTSTART;TZID=UTC:20260608T133000
DTEND;TZID=UTC:20260608T150000
DTSTAMP:20260422T190553
CREATED:20260410T181718Z
LAST-MODIFIED:19700101T050000Z
UID:37466-1780925400-1780930800@www.wclibraries.org
SUMMARY:Summer Reading Kickoff
DESCRIPTION:Celebrate our official kickoff for Summer Reading 2026! Weâ€™ll have a table to help you get signed up for our reading challenges through Beanstack\, learn how to get tickets for raffle prizes\, help you get signed up for events\, and enjoy themed activities and crafts for our theme of “Unearth a Story.â€ No registration needed.
URL:https://www.wclibraries.org/event/48389/
LOCATION:Murrysville Community Library\, 4130 Sardis Road\, Murrysville\, PA\, 15668\, United States
END:VEVENT
BEGIN:VEVENT
DTSTART;TZID=UTC:20260608T130000
DTEND;TZID=UTC:20260608T153000
DTSTAMP:20260422T190553
CREATED:20250923T153130Z
LAST-MODIFIED:19700101T050000Z
UID:34526-1780923600-1780932600@www.wclibraries.org
SUMMARY:RPL Knitters
DESCRIPTION:This club gathers to work on and share current projects. All skill levels (knit and crochet) are welcome.
URL:https://www.wclibraries.org/event/45619/
LOCATION:Rostraver Public Library\, 700 Plaza Drive\, Belle Vernon\, PA\, 15012\, United States
END:VEVENT
BEGIN:VEVENT
DTSTART;TZID=UTC:20260608T103000
DTEND;TZID=UTC:20260608T113000
DTSTAMP:20260422T190553
CREATED:20251201T170129Z
LAST-MODIFIED:19700101T050000Z
UID:35292-1780914600-1780918200@www.wclibraries.org
SUMMARY:Adult and Senior Chair YOGA
DESCRIPTION:Chair yoga is a gentle form of yoga that can be done sitting on a chair or standing on the ground while using the chair for support. Cost is $15.00 per session – Payable cash\, Venmo or PayPal due at the time of attendance.
URL:https://www.wclibraries.org/event/46321/
LOCATION:Rostraver Public Library\, 700 Plaza Drive\, Belle Vernon\, PA\, 15012\, United States
END:VEVENT
BEGIN:VEVENT
DTSTART;TZID=UTC:20260606T140000
DTEND;TZID=UTC:20260606T170000
DTSTAMP:20260422T190553
CREATED:20260417T145636Z
LAST-MODIFIED:19700101T050000Z
UID:37494-1780754400-1780765200@www.wclibraries.org
SUMMARY:Dungeons & Dragons
DESCRIPTION:Take on the role of a fantasy hero and help tell your story in collaboration with fellow players and Dungeon Master\, Alyssa! No background in D&D? No problem! Come to learn about how it works and participate at your own pace. For 6th – 8th graders. The group meets the 1st and 3rd Saturdays of the month. Register for each session separately online @ www.murrysvillelibrary.org or call the library at 724-327-1102. If no openings area available\, make sure to register for the waiting list. Walk-ins will no longer be accepted. \nRegistration Required.
URL:https://www.wclibraries.org/event/48412/
LOCATION:Murrysville Community Library\, 4130 Sardis Road\, Murrysville\, PA\, 15668\, United States
END:VEVENT
BEGIN:VEVENT
DTSTART;TZID=UTC:20260606T100000
DTEND;TZID=UTC:20260606T120000
DTSTAMP:20260422T190553
CREATED:20260110T161023Z
LAST-MODIFIED:20260421T185328Z
UID:36342-1780740000-1780747200@www.wclibraries.org
SUMMARY:Mah Jongg
DESCRIPTION:For both experienced and beginning Mah Jongg players. Sets and cards\nprovided\, but players may bring their own.
URL:https://www.wclibraries.org/event/47344/
LOCATION:Greensburg Hempfield Area Library\, 237 S. Pennsylvania Avenue\, Greensburg\, PA\, 15601\, United States
CATEGORIES:Adult Program
END:VEVENT
BEGIN:VEVENT
DTSTART;TZID=UTC:20260605T130000
DTEND;TZID=UTC:20260605T134500
DTSTAMP:20260422T190553
CREATED:20260417T145415Z
LAST-MODIFIED:19700101T050000Z
UID:37493-1780664400-1780667100@www.wclibraries.org
SUMMARY:Storytime with Miss Lynn
DESCRIPTION:Storytime is designed for children ages 3-6 years old. Each session includes stories\, songs\, and a craft activity. Please register for each individual session. Register online at www.murrysvillelibrary.org or call the library at 724-327-1102. \nRegistration Required.
URL:https://www.wclibraries.org/event/48411/
LOCATION:Murrysville Community Library\, 4130 Sardis Road\, Murrysville\, PA\, 15668\, United States
END:VEVENT
BEGIN:VEVENT
DTSTART;TZID=UTC:20260605T130000
DTEND;TZID=UTC:20260605T140000
DTSTAMP:20260422T190553
CREATED:20251222T020119Z
LAST-MODIFIED:19700101T050000Z
UID:35745-1780664400-1780668000@www.wclibraries.org
SUMMARY:Construction Crew at Lower Burrell
DESCRIPTION:All ages are invited to join us at our Lower Burrell library and become part of the construction crew using our building supplies!
URL:https://www.wclibraries.org/event/46773/
LOCATION:Peoples Library\, 880 Barnes Street\, New Kensington\, PA\, 15068\, United States
END:VEVENT
BEGIN:VEVENT
DTSTART;TZID=UTC:20260605T090000
DTEND;TZID=UTC:20260605T100000
DTSTAMP:20260422T190553
CREATED:20251222T014020Z
LAST-MODIFIED:19700101T050000Z
UID:35616-1780650000-1780653600@www.wclibraries.org
SUMMARY:First Chapter Friday
DESCRIPTION:Visit our Facebook page anytime after 9am to hear First Chapter Friday!
URL:https://www.wclibraries.org/event/46644/
LOCATION:Peoples Library\, 880 Barnes Street\, New Kensington\, PA\, 15068\, United States
END:VEVENT
END:VCALENDAR