BEGIN:VCALENDAR
VERSION:2.0
PRODID:-//Westmoreland County Libraries - ECPv6.15.11//NONSGML v1.0//EN
CALSCALE:GREGORIAN
METHOD:PUBLISH
X-ORIGINAL-URL:https://www.wclibraries.org
X-WR-CALDESC:Events for Westmoreland County Libraries
REFRESH-INTERVAL;VALUE=DURATION:PT1H
X-Robots-Tag:noindex
X-PUBLISHED-TTL:PT1H
BEGIN:VTIMEZONE
TZID:UTC
BEGIN:STANDARD
TZOFFSETFROM:+0000
TZOFFSETTO:+0000
TZNAME:UTC
DTSTART:20250101T000000
END:STANDARD
END:VTIMEZONE
BEGIN:VEVENT
DTSTART;TZID=UTC:20260317T110000
DTEND;TZID=UTC:20260317T120000
DTSTAMP:20260420T235830
CREATED:20251220T202920Z
LAST-MODIFIED:19700101T050000Z
UID:35458-1773745200-1773748800@www.wclibraries.org
SUMMARY:Preschool Story Time
DESCRIPTION:Come join Miss Katie for fun with stories\, crafts and more! Both story times at the Greensburg Hempfield Area Library will be the same\, please choose one to attend. Register once to attend all sessions. Registration required. \nRegistration Required.
URL:https://www.wclibraries.org/event/46486/
LOCATION:Greensburg Hempfield Area Library\, 237 S. Pennsylvania Avenue\, Greensburg\, PA\, 15601\, United States
END:VEVENT
BEGIN:VEVENT
DTSTART;TZID=UTC:20260317T110000
DTEND;TZID=UTC:20260317T120000
DTSTAMP:20260420T235830
CREATED:20251222T021045Z
LAST-MODIFIED:19700101T050000Z
UID:35778-1773745200-1773748800@www.wclibraries.org
SUMMARY:Family Storytime at New Kensington
DESCRIPTION:Join us at our New Kensington library for songs\, stories\, activities\, and fun.
URL:https://www.wclibraries.org/event/46806/
LOCATION:Peoples Library\, 880 Barnes Street\, New Kensington\, PA\, 15068\, United States
END:VEVENT
BEGIN:VEVENT
DTSTART;TZID=UTC:20260317T110000
DTEND;TZID=UTC:20260317T120000
DTSTAMP:20260420T235830
CREATED:20260104T031630Z
LAST-MODIFIED:19700101T050000Z
UID:36260-1773745200-1773748800@www.wclibraries.org
SUMMARY:Preschool Story Time
DESCRIPTION:Come join Miss Patty for fun with stories\, songs\, crafts and more! Registration required. \nRegistration Required.
URL:https://www.wclibraries.org/event/47265/
LOCATION:Youngwood Area Public Library
END:VEVENT
BEGIN:VEVENT
DTSTART;TZID=UTC:20260317T110000
DTEND;TZID=UTC:20260317T120000
DTSTAMP:20260420T235830
CREATED:20260203T204157Z
LAST-MODIFIED:19700101T050000Z
UID:36676-1773745200-1773748800@www.wclibraries.org
SUMMARY:Tuesday Tales
DESCRIPTION:Join us for stories\, activities\, and more! Plus time to play and socialize. For ages 5 and under. Registration Required. \nRegistration Required.
URL:https://www.wclibraries.org/event/47634/
LOCATION:Manor Public Library\, 44 Main Street\, Suite 500\, Manor\, PA\, 15665\, United States
END:VEVENT
BEGIN:VEVENT
DTSTART;TZID=UTC:20260317T110000
DTEND;TZID=UTC:20260317T120000
DTSTAMP:20260420T235830
CREATED:20260220T161144Z
LAST-MODIFIED:19700101T050000Z
UID:36869-1773745200-1773748800@www.wclibraries.org
SUMMARY:Preschool Story Hour
DESCRIPTION:Join us for Preschool Story Hour at the Scottdale Public Library! Children ages 3 through kindergarten are invited to enjoy stories\, songs\, and simple activities designed to build early literacy and social skills.
URL:https://www.wclibraries.org/event/47812/
LOCATION:Scottdale Public Library\, 106 Spring Street\, Scottdale\, PA\, 15683\, United States
END:VEVENT
BEGIN:VEVENT
DTSTART;TZID=UTC:20260317T110000
DTEND;TZID=UTC:20260317T120000
DTSTAMP:20260420T235830
CREATED:20260221T154354Z
LAST-MODIFIED:19700101T050000Z
UID:36897-1773745200-1773748800@www.wclibraries.org
SUMMARY:Lapsit
DESCRIPTION:For Children 18 months-3 years old\, a time of stories and activities.
URL:https://www.wclibraries.org/event/47839/
LOCATION:Mount Pleasant Public Library\, 120 S. Church Street\, Mount Pleasant\, PA\, 15666\, United States
END:VEVENT
BEGIN:VEVENT
DTSTART;TZID=UTC:20260317T110000
DTEND;TZID=UTC:20260317T120000
DTSTAMP:20260420T235830
CREATED:20260227T160233Z
LAST-MODIFIED:19700101T050000Z
UID:37121-1773745200-1773748800@www.wclibraries.org
SUMMARY:Story Time
DESCRIPTION:Join us for a fun-filled morning at the library! Miss Laura brings stories to life with joyful songs\, engaging books\, and a hands-on craft your little ones will love. Perfect for toddlers and preschoolersâ€”come sing\, read\, and create with us every Tuesday!
URL:https://www.wclibraries.org/event/48056/
LOCATION:Penn Area Library\, 2001 Municipal Court\, Harrison City\, PA\, 15636\, United States
END:VEVENT
BEGIN:VEVENT
DTSTART;TZID=UTC:20260317T120000
DTEND;TZID=UTC:20260317T130000
DTSTAMP:20260420T235830
CREATED:20260220T161251Z
LAST-MODIFIED:20260220T161336Z
UID:36880-1773748800-1773752400@www.wclibraries.org
SUMMARY:Readers and Runners: Tuesdays
DESCRIPTION:Join Miss Katrina for a themed story time! Recommended for children aged 1 Year – 3 Years Old and their guardian(s).
URL:https://www.wclibraries.org/event/47823/
LOCATION:Scottdale Public Library\, 106 Spring Street\, Scottdale\, PA\, 15683\, United States
CATEGORIES:Storytime
END:VEVENT
BEGIN:VEVENT
DTSTART;TZID=UTC:20260317T130000
DTEND;TZID=UTC:20260317T140000
DTSTAMP:20260420T235830
CREATED:20251222T021406Z
LAST-MODIFIED:19700101T050000Z
UID:35800-1773752400-1773756000@www.wclibraries.org
SUMMARY:Family Storytime at Lower Burrell
DESCRIPTION:Join us for songs\, stories\, and family fun!
URL:https://www.wclibraries.org/event/46828/
LOCATION:Peoples Library\, 880 Barnes Street\, New Kensington\, PA\, 15068\, United States
END:VEVENT
BEGIN:VEVENT
DTSTART;TZID=UTC:20260317T133000
DTEND;TZID=UTC:20260317T143000
DTSTAMP:20260420T235830
CREATED:20260221T154541Z
LAST-MODIFIED:19700101T050000Z
UID:36908-1773754200-1773757800@www.wclibraries.org
SUMMARY:Story Time
DESCRIPTION:For children ages 3-5 years old\, a time of stories and activities
URL:https://www.wclibraries.org/event/47850/
LOCATION:Mount Pleasant Public Library\, 120 S. Church Street\, Mount Pleasant\, PA\, 15666\, United States
END:VEVENT
BEGIN:VEVENT
DTSTART;TZID=UTC:20260317T140000
DTEND;TZID=UTC:20260317T153000
DTSTAMP:20260420T235830
CREATED:20251125T151530Z
LAST-MODIFIED:20251125T151604Z
UID:35249-1773756000-1773761400@www.wclibraries.org
SUMMARY:Tuesday Afternoon Book Group
DESCRIPTION:The group meets the third Tuesday afternoon of each month. The book for March’s discussion is:  Atmosphere\, by Taylor Jenkins Reid. \nRegistration Required.
URL:https://www.wclibraries.org/event/46278/
LOCATION:Murrysville Community Library\, 4130 Sardis Road\, Murrysville\, PA\, 15668\, United States
CATEGORIES:Adult Program
END:VEVENT
BEGIN:VEVENT
DTSTART;TZID=UTC:20260317T140000
DTEND;TZID=UTC:20260317T153000
DTSTAMP:20260420T235830
CREATED:20260128T164409Z
LAST-MODIFIED:20260128T164417Z
UID:36554-1773756000-1773761400@www.wclibraries.org
SUMMARY:Journey Through the Classics - "Middlemarch"
DESCRIPTION:Do you yearn to revisit the books you once studied\, or perhaps have never read the ones you feel everyone else has? Do you long to know what made the classics so great? In Journey Through the Classics\, we discuss the books that build a legacy and have transcended time. \nRegistration Required.
URL:https://www.wclibraries.org/event/47516/
LOCATION:Greensburg Hempfield Area Library\, 237 S. Pennsylvania Avenue\, Greensburg\, PA\, 15601\, United States
CATEGORIES:Book Club
END:VEVENT
BEGIN:VEVENT
DTSTART;TZID=UTC:20260317T170000
DTEND;TZID=UTC:20260317T180000
DTSTAMP:20260420T235830
CREATED:20260303T170744Z
LAST-MODIFIED:19700101T050000Z
UID:37182-1773766800-1773770400@www.wclibraries.org
SUMMARY:Chess Club
DESCRIPTION:Join us for Chess Club at 5:00 pm.
URL:https://www.wclibraries.org/event/48117/
LOCATION:Penn Area Library\, 2001 Municipal Court\, Harrison City\, PA\, 15636\, United States
END:VEVENT
BEGIN:VEVENT
DTSTART;TZID=UTC:20260317T173000
DTEND;TZID=UTC:20260317T183000
DTSTAMP:20260420T235830
CREATED:20260116T155210Z
LAST-MODIFIED:19700101T050000Z
UID:36443-1773768600-1773772200@www.wclibraries.org
SUMMARY:STEM Around the World
DESCRIPTION:Join us for storytime and a themed craft the 3rd Tuesday of each month\, with hands-on learning about science\, technology\, engineering\, and mathematics! Grades K – 4. Register online at www.murrysvillelibrary.org or call the library at 724-327-1102. Please register for each session separately. \nRegistration Required.
URL:https://www.wclibraries.org/event/47412/
LOCATION:Murrysville Community Library\, 4130 Sardis Road\, Murrysville\, PA\, 15668\, United States
END:VEVENT
BEGIN:VEVENT
DTSTART;TZID=UTC:20260317T173000
DTEND;TZID=UTC:20260317T183000
DTSTAMP:20260420T235830
CREATED:20260326T234551Z
LAST-MODIFIED:19700101T050000Z
UID:37388-1773768600-1773772200@www.wclibraries.org
SUMMARY:Overeaters Anonymous
DESCRIPTION:New members welcome. Join the group for lifetime support with no fees or diets.
URL:https://www.wclibraries.org/event/48317/
LOCATION:Rostraver Public Library\, 700 Plaza Drive\, Belle Vernon\, PA\, 15012\, United States
END:VEVENT
BEGIN:VEVENT
DTSTART;TZID=UTC:20260317T183000
DTEND;TZID=UTC:20260317T200000
DTSTAMP:20260420T235830
CREATED:20260116T192534Z
LAST-MODIFIED:19700101T050000Z
UID:36448-1773772200-1773777600@www.wclibraries.org
SUMMARY:Writer's Block and Brew
DESCRIPTION:Falling behind on your writing? Bring your writing projects for a laid-back write-in with tea\, coffee\, and hot cocoa.  Register online at www.murrysvillelibrary.org or call the library at 724-327-1102. \nRegistration Required.
URL:https://www.wclibraries.org/event/47417/
LOCATION:Murrysville Community Library\, 4130 Sardis Road\, Murrysville\, PA\, 15668\, United States
END:VEVENT
BEGIN:VEVENT
DTSTART;TZID=UTC:20260318T000000
DTEND;TZID=UTC:20260318T230000
DTSTAMP:20260420T235830
CREATED:20260221T181355Z
LAST-MODIFIED:20260221T181936Z
UID:36995-1773792000-1773874800@www.wclibraries.org
SUMMARY:Mount Pleasant NHA Art Exhibit
DESCRIPTION:Running from February into March we will be exhibiting art from Mount Pleasant Area School students.  The library will host an exhibit for the elementary\, junior high\, senior high\, and National Honor Society  with a small gala reception taking place during each exhibit.
URL:https://www.wclibraries.org/event/47937/
LOCATION:Mount Pleasant Public Library\, 120 S. Church Street\, Mount Pleasant\, PA\, 15666\, United States
CATEGORIES:Arts & Culture
END:VEVENT
BEGIN:VEVENT
DTSTART;TZID=UTC:20260318T090000
DTEND;TZID=UTC:20260318T100000
DTSTAMP:20260420T235830
CREATED:20260114T172607Z
LAST-MODIFIED:19700101T050000Z
UID:36424-1773824400-1773828000@www.wclibraries.org
SUMMARY:Readers and Runners Wednesday
DESCRIPTION:Join Miss Katrina for a themed story time! Recommended for children aged 1 Year – 3 Years Old and their guardian(s).
URL:https://www.wclibraries.org/event/47403/
LOCATION:Scottdale Public Library\, 106 Spring Street\, Scottdale\, PA\, 15683\, United States
END:VEVENT
BEGIN:VEVENT
DTSTART;TZID=UTC:20260318T100000
DTEND;TZID=UTC:20260318T103000
DTSTAMP:20260420T235830
CREATED:20251220T203115Z
LAST-MODIFIED:19700101T050000Z
UID:35472-1773828000-1773829800@www.wclibraries.org
SUMMARY:Toddler Story Time
DESCRIPTION:This special story time is just for toddlers. Come have some fun with songs\, movement and stories. Please bring a blanket and stuffed animal with you each week. Each story time at the Greensburg Hempfield Area Library will be the same\, please choose one to attend. Register once to attend all sessions.  Program is intended for children ages 18 months through 35 months old. Registration required. \nRegistration Required.
URL:https://www.wclibraries.org/event/46500/
LOCATION:Greensburg Hempfield Area Library\, 237 S. Pennsylvania Avenue\, Greensburg\, PA\, 15601\, United States
END:VEVENT
BEGIN:VEVENT
DTSTART;TZID=UTC:20260318T100000
DTEND;TZID=UTC:20260318T110000
DTSTAMP:20260420T235830
CREATED:20260218T205648Z
LAST-MODIFIED:19700101T050000Z
UID:36838-1773828000-1773831600@www.wclibraries.org
SUMMARY:Shake\, Rattle\, & Read: Baby story time with Miss Katrina
DESCRIPTION:Baby story time with Miss Katrina
URL:https://www.wclibraries.org/event/47784/
LOCATION:Scottdale Public Library\, 106 Spring Street\, Scottdale\, PA\, 15683\, United States
END:VEVENT
BEGIN:VEVENT
DTSTART;TZID=UTC:20260318T103000
DTEND;TZID=UTC:20260318T110000
DTSTAMP:20260420T235830
CREATED:20250810T203752Z
LAST-MODIFIED:20250810T212606Z
UID:33372-1773829800-1773831600@www.wclibraries.org
SUMMARY:Tiny Tykes Ducklings
DESCRIPTION:Children ages 3 and under meet in the library for stories\, songs\, and activities. This registration will secure your spot in the Ducklings group (1st and 3rd Wednesdays) through May (no need to re-register). Stories & activities will be exactly the same for both Ducklings and Tadpoles.\n**Please download the Remind app to receive notifications about this group. The code to join is: rostt \nRegistration Required.
URL:https://www.wclibraries.org/event/44521/
LOCATION:Rostraver Public Library\, 700 Plaza Drive\, Belle Vernon\, PA\, 15012\, United States
CATEGORIES:Storytime
END:VEVENT
BEGIN:VEVENT
DTSTART;TZID=UTC:20260318T103000
DTEND;TZID=UTC:20260318T110000
DTSTAMP:20260420T235830
CREATED:20260217T172003Z
LAST-MODIFIED:20260217T172342Z
UID:36810-1773829800-1773831600@www.wclibraries.org
SUMMARY:Wee Read
DESCRIPTION:Designed for our youngest friends from birth to 2Â½ years old\, and their caregivers.  Wee Read combines songs\, rhymes\, and socialization for a fun and engaging early literacy experience.  The same Wee Read session is repeated Tuesday through Thursday each week. If the Greater Latrobe School District is closed or delayed for weather-related reasons\, there will be no Wee Read or Preschool Storytime.\nThis program is FREE but registration is required. Please register by calling the Childrenâ€™s Room at 724-537-4383 or stopping by the Childrenâ€™s Room desk.\nSpace may be limited. \nRegistration Required.
URL:https://www.wclibraries.org/event/47756/
LOCATION:Adams Memorial Library\, 1112 Ligonier Street\, Latrobe\, PA\, 15650\, United States
CATEGORIES:Storytime
END:VEVENT
BEGIN:VEVENT
DTSTART;TZID=UTC:20260318T110000
DTEND;TZID=UTC:20260318T120000
DTSTAMP:20260420T235830
CREATED:20251220T203305Z
LAST-MODIFIED:19700101T050000Z
UID:35486-1773831600-1773835200@www.wclibraries.org
SUMMARY:Preschool Story Time
DESCRIPTION:Come join Miss Katie for fun with stories\, crafts and more! Both story times at the Greensburg Hempfield Area Library will be the same\, please choose one to attend. Register once to attend all sessions. Registration required. \nRegistration Required.
URL:https://www.wclibraries.org/event/46514/
LOCATION:Greensburg Hempfield Area Library\, 237 S. Pennsylvania Avenue\, Greensburg\, PA\, 15601\, United States
END:VEVENT
BEGIN:VEVENT
DTSTART;TZID=UTC:20260318T110000
DTEND;TZID=UTC:20260318T120000
DTSTAMP:20260420T235830
CREATED:20260220T161027Z
LAST-MODIFIED:19700101T050000Z
UID:36863-1773831600-1773835200@www.wclibraries.org
SUMMARY:Preschool Story Hour
DESCRIPTION:Join us for Preschool Story Hour at the Scottdale Public Library! Children ages 3 through kindergarten are invited to enjoy stories\, songs\, and simple activities designed to build early literacy and social skills.
URL:https://www.wclibraries.org/event/47806/
LOCATION:Scottdale Public Library\, 106 Spring Street\, Scottdale\, PA\, 15683\, United States
END:VEVENT
BEGIN:VEVENT
DTSTART;TZID=UTC:20260318T130000
DTEND;TZID=UTC:20260318T140000
DTSTAMP:20260420T235830
CREATED:20251222T015418Z
LAST-MODIFIED:19700101T050000Z
UID:35667-1773838800-1773842400@www.wclibraries.org
SUMMARY:Puzzles for Grownups
DESCRIPTION:Join us to work on puzzles with other adults at either our Lower Burrell or New Kensington library.
URL:https://www.wclibraries.org/event/46695/
LOCATION:Peoples Library\, 880 Barnes Street\, New Kensington\, PA\, 15068\, United States
END:VEVENT
BEGIN:VEVENT
DTSTART;TZID=UTC:20260318T130000
DTEND;TZID=UTC:20260318T134500
DTSTAMP:20260420T235830
CREATED:20260217T172857Z
LAST-MODIFIED:20260217T173554Z
UID:36819-1773838800-1773841500@www.wclibraries.org
SUMMARY:Preschool Storytime
DESCRIPTION:Designed for our friends from 2Â½ to 5 years old who enjoy listening to stories\, and their caregivers.  This storytime features books on a different theme each week\, plus songs and rhymes.  The same Preschool Storytime session is repeated Wednesday and Thursday each week.  If the Greater Latrobe School District is closed or delayed for weather-related reasons\, there will be no Wee Read or Preschool Storytime.\nThis program is FREE but registration is required.\nPlease register by calling the Childrenâ€™s Room at 724-537-4383 or stopping by the Childrenâ€™s Room desk.\nSpace may be limited. \nRegistration Required.
URL:https://www.wclibraries.org/event/47765/
LOCATION:Adams Memorial Library\, 1112 Ligonier Street\, Latrobe\, PA\, 15650\, United States
CATEGORIES:Storytime
END:VEVENT
BEGIN:VEVENT
DTSTART;TZID=UTC:20260318T130000
DTEND;TZID=UTC:20260318T183000
DTSTAMP:20260420T235830
CREATED:20260223T183630Z
LAST-MODIFIED:20260223T184037Z
UID:37060-1773838800-1773858600@www.wclibraries.org
SUMMARY:Spread Kindness - Mister Rogers' Birthday
DESCRIPTION:Honor Mister Rogers’ Birthday with us starting 1PM on Wednesday\, March 18th and ending at 1PM on Friday\, March 20th. We will be making cards for elderly community members\, painting kindness rocks\, and more. There will also be giveaways (while supplies last) and prize drawings. No registration – drop in any time from Wed at 1PM to Fri at 1PM.\nSpecial thanks to WQED for helping to make this event possible.
URL:https://www.wclibraries.org/event/47993/
LOCATION:Rostraver Public Library\, 700 Plaza Drive\, Belle Vernon\, PA\, 15012\, United States
CATEGORIES:All Ages
END:VEVENT
BEGIN:VEVENT
DTSTART;TZID=UTC:20260318T140000
DTEND;TZID=UTC:20260318T153000
DTSTAMP:20260420T235830
CREATED:20260124T170320Z
LAST-MODIFIED:19700101T050000Z
UID:36496-1773842400-1773847800@www.wclibraries.org
SUMMARY:Readers in Stitches
DESCRIPTION:Not a book club or a craft class. Stop by the library and bring your current stitching project. Chat about whatever good things you’ve been reading or watching. Share crafting ideas and tips. Get the 411 on new things coming to the library. Get help with reading e-books or listening to e-audiobooks on the Libby app.
URL:https://www.wclibraries.org/event/47458/
LOCATION:PA
END:VEVENT
BEGIN:VEVENT
DTSTART;TZID=UTC:20260318T163000
DTEND;TZID=UTC:20260318T173000
DTSTAMP:20260420T235830
CREATED:20260221T155438Z
LAST-MODIFIED:19700101T050000Z
UID:36931-1773851400-1773855000@www.wclibraries.org
SUMMARY:Midweek Adventures
DESCRIPTION:For children ages 6-11 years old\, a time of stories and activities.\nStarting in 2026 every other Wednesday Midweek Adventures will become Lego Adventures
URL:https://www.wclibraries.org/event/47873/
LOCATION:Mount Pleasant Public Library\, 120 S. Church Street\, Mount Pleasant\, PA\, 15666\, United States
END:VEVENT
BEGIN:VEVENT
DTSTART;TZID=UTC:20260318T180000
DTEND;TZID=UTC:20260318T190000
DTSTAMP:20260420T235830
CREATED:20251220T211240Z
LAST-MODIFIED:19700101T050000Z
UID:35569-1773856800-1773860400@www.wclibraries.org
SUMMARY:Middle School Meet-Up: Goofy Games
DESCRIPTION:This program is just for the middle schoolers! Test out silly games and see who will win and reign supreme! Registration required. \nRegistration Required.
URL:https://www.wclibraries.org/event/46597/
LOCATION:Greensburg Hempfield Area Library\, 237 S. Pennsylvania Avenue\, Greensburg\, PA\, 15601\, United States
END:VEVENT
END:VCALENDAR