BEGIN:VCALENDAR
VERSION:2.0
PRODID:-//Westmoreland County Libraries - ECPv6.15.11//NONSGML v1.0//EN
CALSCALE:GREGORIAN
METHOD:PUBLISH
X-ORIGINAL-URL:https://www.wclibraries.org
X-WR-CALDESC:Events for Westmoreland County Libraries
REFRESH-INTERVAL;VALUE=DURATION:PT1H
X-Robots-Tag:noindex
X-PUBLISHED-TTL:PT1H
BEGIN:VTIMEZONE
TZID:UTC
BEGIN:STANDARD
TZOFFSETFROM:+0000
TZOFFSETTO:+0000
TZNAME:UTC
DTSTART:20240101T000000
END:STANDARD
END:VTIMEZONE
BEGIN:VEVENT
DTSTART;TZID=UTC:20250729T130000
DTEND;TZID=UTC:20250729T150000
DTSTAMP:20260422T050534
CREATED:20250525T215052Z
LAST-MODIFIED:20250728T181103Z
UID:32397-1753794000-1753801200@www.wclibraries.org
SUMMARY:Bright Beginnings
DESCRIPTION:Bright Beginnings is a fun\, educational STEM summer day camp for kids in grades K-1. It helps boost Math and English skills\, builds confidence\, and encourages teamwork through games and activities. Parents must stay in the library while this program is going on. Register online at www.murrysvillelibrary.org or call the library at 724-327-1102. \nRegistration Required.
URL:https://www.wclibraries.org/event/43624/
LOCATION:Murrysville Community Library\, 4130 Sardis Road\, Murrysville\, PA\, 15668\, United States
CATEGORIES:Summer Reading Program
END:VEVENT
BEGIN:VEVENT
DTSTART;TZID=UTC:20250729T130000
DTEND;TZID=UTC:20250729T150000
DTSTAMP:20260422T050534
CREATED:20250610T175041Z
LAST-MODIFIED:20250612T234308Z
UID:32601-1753794000-1753801200@www.wclibraries.org
SUMMARY:Bright Beginnings
DESCRIPTION:Bright Beginnings is a fun\, educational STEM summer day camp for kids grades 2 – 3. It helps boost Math and English skills\, builds confidence\, and encourages teamwork through games and activities. Parents must stay in the library while this program is going on. Register online at www.murrysvillelibrary.org or call the library at 724-327-1102. \nRegistration Required.
URL:https://www.wclibraries.org/event/43815/
LOCATION:Murrysville Community Library\, 4130 Sardis Road\, Murrysville\, PA\, 15668\, United States
CATEGORIES:Summer Reading Program
END:VEVENT
BEGIN:VEVENT
DTSTART;TZID=UTC:20250729T170000
DTEND;TZID=UTC:20250729T180000
DTSTAMP:20260422T050534
CREATED:20250525T215346Z
LAST-MODIFIED:20250612T234607Z
UID:32398-1753808400-1753812000@www.wclibraries.org
SUMMARY:Scrapbooking for Teens
DESCRIPTION:Print out your pictures and come make a summer memory scrapbook at the library. Register online at www.murrysvillelibrary.org or call the library at 724-327-1102. \nRegistration Required.
URL:https://www.wclibraries.org/event/43625/
LOCATION:Murrysville Community Library\, 4130 Sardis Road\, Murrysville\, PA\, 15668\, United States
CATEGORIES:Summer Reading Program
END:VEVENT
END:VCALENDAR