BEGIN:VCALENDAR
VERSION:2.0
PRODID:-//Westmoreland County Libraries - ECPv6.15.11//NONSGML v1.0//EN
CALSCALE:GREGORIAN
METHOD:PUBLISH
X-WR-CALNAME:Westmoreland County Libraries
X-ORIGINAL-URL:https://www.wclibraries.org
X-WR-CALDESC:Events for Westmoreland County Libraries
REFRESH-INTERVAL;VALUE=DURATION:PT1H
X-Robots-Tag:noindex
X-PUBLISHED-TTL:PT1H
BEGIN:VTIMEZONE
TZID:UTC
BEGIN:STANDARD
TZOFFSETFROM:+0000
TZOFFSETTO:+0000
TZNAME:UTC
DTSTART:20240101T000000
END:STANDARD
END:VTIMEZONE
BEGIN:VEVENT
DTSTART;TZID=UTC:20250728T130000
DTEND;TZID=UTC:20250728T150000
DTSTAMP:20260422T050553
CREATED:20250525T214837Z
LAST-MODIFIED:20250612T235421Z
UID:32396-1753707600-1753714800@www.wclibraries.org
SUMMARY:Bright Beginnings
DESCRIPTION:Bright Beginnings is a fun\, educational STEM summer day camp for kids in grades 2-3. It helps boost Math and English skills\, builds confidence\, and encourages teamwork through games and activities. Parents must stay in the library while this program is going on. Register online at www.murrysvillelibrary.org or call the library at 724-327-1102. \nRegistration Required.
URL:https://www.wclibraries.org/event/43623/
LOCATION:Murrysville Community Library\, 4130 Sardis Road\, Murrysville\, PA\, 15668\, United States
CATEGORIES:Summer Reading Program
END:VEVENT
BEGIN:VEVENT
DTSTART;TZID=UTC:20250728T130000
DTEND;TZID=UTC:20250728T150000
DTSTAMP:20260422T050553
CREATED:20250610T174821Z
LAST-MODIFIED:20250715T093701Z
UID:32600-1753707600-1753714800@www.wclibraries.org
SUMMARY:Bright Beginnings
DESCRIPTION:Bright Beginnings is a fun\, educational STEM summer day camp for kids in grades K-1. It helps boost Math and English skills\, builds confidence\, and encourages teamwork through games and activities. Parents must stay in the library while this program is going on. Register online at www.murrysvillelibrary.org or call the library at 724-327-1102. \nRegistration Required.
URL:https://www.wclibraries.org/event/43814/
LOCATION:Murrysville Community Library\, 4130 Sardis Road\, Murrysville\, PA\, 15668\, United States
CATEGORIES:Summer Reading Program
END:VEVENT
END:VCALENDAR