BEGIN:VCALENDAR
VERSION:2.0
PRODID:-//Westmoreland County Libraries - ECPv6.15.11//NONSGML v1.0//EN
CALSCALE:GREGORIAN
METHOD:PUBLISH
X-WR-CALNAME:Westmoreland County Libraries
X-ORIGINAL-URL:https://www.wclibraries.org
X-WR-CALDESC:Events for Westmoreland County Libraries
REFRESH-INTERVAL;VALUE=DURATION:PT1H
X-Robots-Tag:noindex
X-PUBLISHED-TTL:PT1H
BEGIN:VTIMEZONE
TZID:UTC
BEGIN:STANDARD
TZOFFSETFROM:+0000
TZOFFSETTO:+0000
TZNAME:UTC
DTSTART:20240101T000000
END:STANDARD
END:VTIMEZONE
BEGIN:VEVENT
DTSTART;TZID=UTC:20250724T110000
DTEND;TZID=UTC:20250724T120000
DTSTAMP:20260422T050552
CREATED:20250523T154146Z
LAST-MODIFIED:20250724T140731Z
UID:32347-1753354800-1753358400@www.wclibraries.org
SUMMARY:"Junk" Robot Creations!
DESCRIPTION:From “Drab” to “Fab” robot creations made from recycled materials! Just bring your imagination!  \nRegistration Required.
URL:https://www.wclibraries.org/event/43572/
LOCATION:Rostraver Public Library\, 700 Plaza Drive\, Belle Vernon\, PA\, 15012\, United States
CATEGORIES:Summer Reading Program
END:VEVENT
END:VCALENDAR