BEGIN:VCALENDAR
VERSION:2.0
PRODID:-//Westmoreland County Libraries - ECPv6.15.11//NONSGML v1.0//EN
CALSCALE:GREGORIAN
METHOD:PUBLISH
X-WR-CALNAME:Westmoreland County Libraries
X-ORIGINAL-URL:https://www.wclibraries.org
X-WR-CALDESC:Events for Westmoreland County Libraries
REFRESH-INTERVAL;VALUE=DURATION:PT1H
X-Robots-Tag:noindex
X-PUBLISHED-TTL:PT1H
BEGIN:VTIMEZONE
TZID:UTC
BEGIN:STANDARD
TZOFFSETFROM:+0000
TZOFFSETTO:+0000
TZNAME:UTC
DTSTART:20240101T000000
END:STANDARD
END:VTIMEZONE
BEGIN:VEVENT
DTSTART;TZID=UTC:20250722T130000
DTEND;TZID=UTC:20250722T143000
DTSTAMP:20260422T050548
CREATED:20250525T213109Z
LAST-MODIFIED:20250612T232901Z
UID:32392-1753189200-1753194600@www.wclibraries.org
SUMMARY:Book Binding Workshop
DESCRIPTION:Join instructors from the Andy Warhol Museum to learn the basics of bookbinding. Then get hands-on bookbinding experience by making a journal of your own. Spots are limited. Register online at www.murrysvillelibrary.org or call the library at 724-327-1102.  Register online at www.murrysvillelibrary.org or call the library at 724-327-1102. \nRegistration Required.
URL:https://www.wclibraries.org/event/43619/
LOCATION:Murrysville Community Library\, 4130 Sardis Road\, Murrysville\, PA\, 15668\, United States
CATEGORIES:Summer Reading Program
END:VEVENT
BEGIN:VEVENT
DTSTART;TZID=UTC:20250722T150000
DTEND;TZID=UTC:20250722T160000
DTSTAMP:20260422T050548
CREATED:20250525T213358Z
LAST-MODIFIED:20250612T233013Z
UID:32393-1753196400-1753200000@www.wclibraries.org
SUMMARY:Teen Photography Workshop
DESCRIPTION:Join instructors from the Andy Warhol Museum to learn about Warholâ€™s use of photography and basic photography ideas like lighting\, composition\, and more. Then get hands-on photography experience using what you learned! Spots are limited. Register online at www.murrysvillelibrary.org or call the library at 724-327-1102. \nRegistration Required.
URL:https://www.wclibraries.org/event/43620/
LOCATION:Murrysville Community Library\, 4130 Sardis Road\, Murrysville\, PA\, 15668\, United States
CATEGORIES:Summer Reading Program
END:VEVENT
END:VCALENDAR