BEGIN:VCALENDAR
VERSION:2.0
PRODID:-//Westmoreland County Libraries - ECPv6.15.11//NONSGML v1.0//EN
CALSCALE:GREGORIAN
METHOD:PUBLISH
X-WR-CALNAME:Westmoreland County Libraries
X-ORIGINAL-URL:https://www.wclibraries.org
X-WR-CALDESC:Events for Westmoreland County Libraries
REFRESH-INTERVAL;VALUE=DURATION:PT1H
X-Robots-Tag:noindex
X-PUBLISHED-TTL:PT1H
BEGIN:VTIMEZONE
TZID:UTC
BEGIN:STANDARD
TZOFFSETFROM:+0000
TZOFFSETTO:+0000
TZNAME:UTC
DTSTART:20240101T000000
END:STANDARD
END:VTIMEZONE
BEGIN:VEVENT
DTSTART;TZID=UTC:20250718T140000
DTEND;TZID=UTC:20250718T150000
DTSTAMP:20260422T050550
CREATED:20250525T212455Z
LAST-MODIFIED:20250612T232523Z
UID:32390-1752847200-1752850800@www.wclibraries.org
SUMMARY:Wonders of Wildlife
DESCRIPTION:Discover fur\, feathers\, and scales in this introduction to some of the worldâ€™s most fascinating animals. Using live animals from the Zoo\, we will explore the physical characteristics of each animal while learning how they are uniquely adapted to their environment. Register online at www.murrysvillelibrary.org or call the library at 724-327-1102. \nRegistration Required.
URL:https://www.wclibraries.org/event/43617/
LOCATION:Murrysville Community Library\, 4130 Sardis Road\, Murrysville\, PA\, 15668\, United States
CATEGORIES:Summer Reading Program
END:VEVENT
BEGIN:VEVENT
DTSTART;TZID=UTC:20250718T151500
DTEND;TZID=UTC:20250718T161500
DTSTAMP:20260422T050550
CREATED:20250525T212751Z
LAST-MODIFIED:20250612T232601Z
UID:32391-1752851700-1752855300@www.wclibraries.org
SUMMARY:Wonders of Wildlife
DESCRIPTION:Discover fur\, feathers\, and scales in this introduction to some of the worldâ€™s most fascinating animals. Using live animals from the Zoo\, we will explore the physical characteristics of each animal while learning how they are uniquely adapted to their environment. Register online at www.murrysvillelibrary.org or call the library at 724-327-1102. \nRegistration Required.
URL:https://www.wclibraries.org/event/43618/
LOCATION:Murrysville Community Library\, 4130 Sardis Road\, Murrysville\, PA\, 15668\, United States
CATEGORIES:Summer Reading Program
END:VEVENT
END:VCALENDAR