BEGIN:VCALENDAR
VERSION:2.0
PRODID:-//Westmoreland County Libraries - ECPv6.15.11//NONSGML v1.0//EN
CALSCALE:GREGORIAN
METHOD:PUBLISH
X-ORIGINAL-URL:https://www.wclibraries.org
X-WR-CALDESC:Events for Westmoreland County Libraries
REFRESH-INTERVAL;VALUE=DURATION:PT1H
X-Robots-Tag:noindex
X-PUBLISHED-TTL:PT1H
BEGIN:VTIMEZONE
TZID:UTC
BEGIN:STANDARD
TZOFFSETFROM:+0000
TZOFFSETTO:+0000
TZNAME:UTC
DTSTART:20240101T000000
END:STANDARD
END:VTIMEZONE
BEGIN:VEVENT
DTSTART;TZID=UTC:20250717T100000
DTEND;TZID=UTC:20250717T110000
DTSTAMP:20260422T050536
CREATED:20250425T194033Z
LAST-MODIFIED:20250630T130742Z
UID:31248-1752746400-1752750000@www.wclibraries.org
SUMMARY:Butterfly Release Raindate
DESCRIPTION:Join the Murrysville Garden Club for the release of our beautiful butterflies. Grades PreK-4th.  Register online at www.murrysvillelibrary.org or call the library at 724-327-1102.
URL:https://www.wclibraries.org/event/42505/
LOCATION:Murrysville Community Library\, 4130 Sardis Road\, Murrysville\, PA\, 15668\, United States
CATEGORIES:Summer Reading Program
END:VEVENT
BEGIN:VEVENT
DTSTART;TZID=UTC:20250717T110000
DTEND;TZID=UTC:20250717T120000
DTSTAMP:20260422T050536
CREATED:20250523T153320Z
LAST-MODIFIED:20250713T035617Z
UID:32346-1752750000-1752753600@www.wclibraries.org
SUMMARY:Teddy Bear Workshop!
DESCRIPTION:Here a story\, stuff and tie-dye your very own teddy bear! \nRegistration Required.
URL:https://www.wclibraries.org/event/43571/
LOCATION:Rostraver Public Library\, 700 Plaza Drive\, Belle Vernon\, PA\, 15012\, United States
CATEGORIES:Summer Reading Program
END:VEVENT
END:VCALENDAR