BEGIN:VCALENDAR
VERSION:2.0
PRODID:-//Westmoreland County Libraries - ECPv6.15.11//NONSGML v1.0//EN
CALSCALE:GREGORIAN
METHOD:PUBLISH
X-WR-CALNAME:Westmoreland County Libraries
X-ORIGINAL-URL:https://www.wclibraries.org
X-WR-CALDESC:Events for Westmoreland County Libraries
REFRESH-INTERVAL;VALUE=DURATION:PT1H
X-Robots-Tag:noindex
X-PUBLISHED-TTL:PT1H
BEGIN:VTIMEZONE
TZID:UTC
BEGIN:STANDARD
TZOFFSETFROM:+0000
TZOFFSETTO:+0000
TZNAME:UTC
DTSTART:20240101T000000
END:STANDARD
END:VTIMEZONE
BEGIN:VEVENT
DTSTART;TZID=UTC:20250710T110000
DTEND;TZID=UTC:20250710T120000
DTSTAMP:20260422T050553
CREATED:20250522T130643Z
LAST-MODIFIED:20250706T211712Z
UID:32326-1752145200-1752148800@www.wclibraries.org
SUMMARY:Clay Companions: Animal Portrait Relief Tile Workshop
DESCRIPTION:Students will design and sculpt a relief tile featuring a portrait of an animal or their own beloved pet.  Whether it’s a loyal dog\, curious cat\, or favorite wild animal. This class is perfect for animal lovers and artists of all levels looking to explore clay as a sculptural storytelling medium. \nRegistration Required.
URL:https://www.wclibraries.org/event/43551/
LOCATION:Rostraver Public Library\, 700 Plaza Drive\, Belle Vernon\, PA\, 15012\, United States
CATEGORIES:Summer Reading Program
END:VEVENT
BEGIN:VEVENT
DTSTART;TZID=UTC:20250710T140000
DTEND;TZID=UTC:20250710T150000
DTSTAMP:20260422T050553
CREATED:20250525T210604Z
LAST-MODIFIED:20250612T231237Z
UID:32387-1752156000-1752159600@www.wclibraries.org
SUMMARY:Lily Pads
DESCRIPTION:Come join us at the library to listen to the story of Linnea in Monetâ€™s Garden by Lena Anderson and Christine Bjork and then paint their own lily pads to take home. Sponsored by the Murrysville Garden Club. Best for ages 6 – 11.  Register online at www.murrysvillelibrary.org or call the library at 724-327-1102. \nRegistration Required.
URL:https://www.wclibraries.org/event/43614/
LOCATION:Murrysville Community Library\, 4130 Sardis Road\, Murrysville\, PA\, 15668\, United States
CATEGORIES:Summer Reading Program
END:VEVENT
END:VCALENDAR