BEGIN:VCALENDAR
VERSION:2.0
PRODID:-//Westmoreland County Libraries - ECPv6.15.11//NONSGML v1.0//EN
CALSCALE:GREGORIAN
METHOD:PUBLISH
X-ORIGINAL-URL:https://www.wclibraries.org
X-WR-CALDESC:Events for Westmoreland County Libraries
REFRESH-INTERVAL;VALUE=DURATION:PT1H
X-Robots-Tag:noindex
X-PUBLISHED-TTL:PT1H
BEGIN:VTIMEZONE
TZID:UTC
BEGIN:STANDARD
TZOFFSETFROM:+0000
TZOFFSETTO:+0000
TZNAME:UTC
DTSTART:20240101T000000
END:STANDARD
END:VTIMEZONE
BEGIN:VEVENT
DTSTART;TZID=UTC:20250630T180000
DTEND;TZID=UTC:20250630T190000
DTSTAMP:20260422T050536
CREATED:20250525T205520Z
LAST-MODIFIED:20250612T230539Z
UID:32384-1751306400-1751310000@www.wclibraries.org
SUMMARY:Native Shade Gardening
DESCRIPTION:Do you have a shaded area in your yard and need some ideas on how to spruce it up? Come learn about the different plants that thrive in the shade and how you can transform your space using natives.  Sponsored by the Murrysville Garden Club.  Register online at www.murrysvillelibrary.org or call the library at 724-327-1102.   \nRegistration Required.
URL:https://www.wclibraries.org/event/43611/
LOCATION:Murrysville Community Library\, 4130 Sardis Road\, Murrysville\, PA\, 15668\, United States
CATEGORIES:Summer Reading Program
END:VEVENT
END:VCALENDAR