BEGIN:VCALENDAR
VERSION:2.0
PRODID:-//Westmoreland County Libraries - ECPv6.15.11//NONSGML v1.0//EN
CALSCALE:GREGORIAN
METHOD:PUBLISH
X-WR-CALNAME:Westmoreland County Libraries
X-ORIGINAL-URL:https://www.wclibraries.org
X-WR-CALDESC:Events for Westmoreland County Libraries
REFRESH-INTERVAL;VALUE=DURATION:PT1H
X-Robots-Tag:noindex
X-PUBLISHED-TTL:PT1H
BEGIN:VTIMEZONE
TZID:UTC
BEGIN:STANDARD
TZOFFSETFROM:+0000
TZOFFSETTO:+0000
TZNAME:UTC
DTSTART:20240101T000000
END:STANDARD
END:VTIMEZONE
BEGIN:VEVENT
DTSTART;TZID=UTC:20250625T110000
DTEND;TZID=UTC:20250625T120000
DTSTAMP:20260422T050553
CREATED:20250530T190929Z
LAST-MODIFIED:20250613T131123Z
UID:32508-1750849200-1750852800@www.wclibraries.org
SUMMARY:CANCELLED PROGRAM - Butterfly Storytime
DESCRIPTION:SORRY THIS PROGRAM HAS BEEN CANCELLED.  Join the Murrysville Garden Club on Wednesday\, June 25\, at 11:00am for a special Butterfly Storytime.  Kids will hear a story that will get them ready for next month’s butterfly release and let their imagination take flight!  Register online at www.murrysvillelibrary.org or call the library at 724-327-1102. \nRegistration Required.
URL:https://www.wclibraries.org/event/43729/
LOCATION:Murrysville Community Library\, 4130 Sardis Road\, Murrysville\, PA\, 15668\, United States
CATEGORIES:Summer Reading Program
END:VEVENT
BEGIN:VEVENT
DTSTART;TZID=UTC:20250625T140000
DTEND;TZID=UTC:20250625T160000
DTSTAMP:20260422T050553
CREATED:20250524T213914Z
LAST-MODIFIED:20250612T235556Z
UID:32380-1750860000-1750867200@www.wclibraries.org
SUMMARY:Bright Beginnings
DESCRIPTION:Bright Beginnings is a fun\, educational STEM summer day camp for kids grade 2-3. It helps boost Math and English skills\, builds confidence\, and encourages teamwork through games and activities. Parents must stay in the library while this program is going on. Register online at www.murrysvillelibrary.org or call the library at 724-327-1102. \nRegistration Required.
URL:https://www.wclibraries.org/event/43608/
LOCATION:Murrysville Community Library\, 4130 Sardis Road\, Murrysville\, PA\, 15668\, United States
CATEGORIES:Summer Reading Program
END:VEVENT
BEGIN:VEVENT
DTSTART;TZID=UTC:20250625T140000
DTEND;TZID=UTC:20250625T160000
DTSTAMP:20260422T050553
CREATED:20250610T173839Z
LAST-MODIFIED:20250612T235521Z
UID:32599-1750860000-1750867200@www.wclibraries.org
SUMMARY:Bright Beginnings
DESCRIPTION:Bright Beginnings is a fun\, educational STEM summer day camp for kids in grades K-1. It helps boost Math and English skills\, builds confidence\, and encourages teamwork through games and activities. Parents must stay in the library while this program is going on. Register online at www.murrysvillelibrary.org or call the library at 724-327-1102. \nRegistration Required.
URL:https://www.wclibraries.org/event/43813/
LOCATION:Murrysville Community Library\, 4130 Sardis Road\, Murrysville\, PA\, 15668\, United States
CATEGORIES:Summer Reading Program
END:VEVENT
END:VCALENDAR