BEGIN:VCALENDAR
VERSION:2.0
PRODID:-//Westmoreland County Libraries - ECPv6.15.11//NONSGML v1.0//EN
CALSCALE:GREGORIAN
METHOD:PUBLISH
X-WR-CALNAME:Westmoreland County Libraries
X-ORIGINAL-URL:https://www.wclibraries.org
X-WR-CALDESC:Events for Westmoreland County Libraries
REFRESH-INTERVAL;VALUE=DURATION:PT1H
X-Robots-Tag:noindex
X-PUBLISHED-TTL:PT1H
BEGIN:VTIMEZONE
TZID:UTC
BEGIN:STANDARD
TZOFFSETFROM:+0000
TZOFFSETTO:+0000
TZNAME:UTC
DTSTART:20240101T000000
END:STANDARD
END:VTIMEZONE
BEGIN:VEVENT
DTSTART;TZID=UTC:20250617T110000
DTEND;TZID=UTC:20250617T113000
DTSTAMP:20260422T050600
CREATED:20250602T153444Z
LAST-MODIFIED:20250602T154459Z
UID:32519-1750158000-1750159800@www.wclibraries.org
SUMMARY:Go Green Storytime
DESCRIPTION:Join Ms. Natalie from Westmoreland Cleanways for a fun and inspiring story time as we read a book about making eco-friendly â€œgreenâ€ choices! Kids will learn how even small actions can help the planetâ€”and then create their own upcycled mosaic to take home. Ideal for ages 5â€“10.  Registration is required.  Register by calling the library at 412-372-5115. \nRegistration Required.
URL:https://www.wclibraries.org/event/43739/
LOCATION:Trafford Community Public Library\, 416 Brinton Avenue\, Trafford\, PA\, 15068\, United States
CATEGORIES:Summer Reading Program
END:VEVENT
END:VCALENDAR