BEGIN:VCALENDAR
VERSION:2.0
PRODID:-//Westmoreland County Libraries - ECPv6.15.11//NONSGML v1.0//EN
CALSCALE:GREGORIAN
METHOD:PUBLISH
X-WR-CALNAME:Westmoreland County Libraries
X-ORIGINAL-URL:https://www.wclibraries.org
X-WR-CALDESC:Events for Westmoreland County Libraries
REFRESH-INTERVAL;VALUE=DURATION:PT1H
X-Robots-Tag:noindex
X-PUBLISHED-TTL:PT1H
BEGIN:VTIMEZONE
TZID:UTC
BEGIN:STANDARD
TZOFFSETFROM:+0000
TZOFFSETTO:+0000
TZNAME:UTC
DTSTART:20240101T000000
END:STANDARD
END:VTIMEZONE
BEGIN:VEVENT
DTSTART;TZID=UTC:20250616T140000
DTEND;TZID=UTC:20250616T150000
DTSTAMP:20260422T050553
CREATED:20250524T191644Z
LAST-MODIFIED:20250609T120520Z
UID:32371-1750082400-1750086000@www.wclibraries.org
SUMMARY:O'Ryan the O'Mazing's Spectacular Circus Class
DESCRIPTION:In this hour long workshop you will learn all the fundamental skills of the modern circus. We start by literally walking through the basics of physical theater\, character work\, and storytelling and learn how to use our bodies to communicate to our audience. Then we demystify and simplify the skills of juggling\, balance\, and choreography through new props\, games\, and exercises fit for all ages and abilities. Register online at www.murrysvillelibrary.org or call the library at 724-327-1102. \nRegistration Required.
URL:https://www.wclibraries.org/event/43596/
LOCATION:Murrysville Community Library\, 4130 Sardis Road\, Murrysville\, PA\, 15668\, United States
CATEGORIES:Summer Reading Program
END:VEVENT
END:VCALENDAR