BEGIN:VCALENDAR
VERSION:2.0
PRODID:-//Westmoreland County Libraries - ECPv6.15.11//NONSGML v1.0//EN
CALSCALE:GREGORIAN
METHOD:PUBLISH
X-ORIGINAL-URL:https://www.wclibraries.org
X-WR-CALDESC:Events for Westmoreland County Libraries
REFRESH-INTERVAL;VALUE=DURATION:PT1H
X-Robots-Tag:noindex
X-PUBLISHED-TTL:PT1H
BEGIN:VTIMEZONE
TZID:UTC
BEGIN:STANDARD
TZOFFSETFROM:+0000
TZOFFSETTO:+0000
TZNAME:UTC
DTSTART:20240101T000000
END:STANDARD
END:VTIMEZONE
BEGIN:VEVENT
DTSTART;TZID=UTC:20250605T110000
DTEND;TZID=UTC:20250605T120000
DTSTAMP:20260422T004633
CREATED:20250522T123944Z
LAST-MODIFIED:20250604T122405Z
UID:32321-1749121200-1749124800@www.wclibraries.org
SUMMARY:Summer Reading Kick-Off!
DESCRIPTION:Come to library to celebrate the opening of our Summer Reading Adventure!\nKona Ice\, hotdogs\, and other goodies!  \nRegistration Required.
URL:https://www.wclibraries.org/event/43546/
LOCATION:Rostraver Public Library\, 700 Plaza Drive\, Belle Vernon\, PA\, 15012\, United States
CATEGORIES:Summer Reading Program
END:VEVENT
END:VCALENDAR