BEGIN:VCALENDAR
VERSION:2.0
PRODID:-//Westmoreland County Libraries - ECPv6.15.11//NONSGML v1.0//EN
CALSCALE:GREGORIAN
METHOD:PUBLISH
X-WR-CALNAME:Westmoreland County Libraries
X-ORIGINAL-URL:https://www.wclibraries.org
X-WR-CALDESC:Events for Westmoreland County Libraries
REFRESH-INTERVAL;VALUE=DURATION:PT1H
X-Robots-Tag:noindex
X-PUBLISHED-TTL:PT1H
BEGIN:VTIMEZONE
TZID:UTC
BEGIN:STANDARD
TZOFFSETFROM:+0000
TZOFFSETTO:+0000
TZNAME:UTC
DTSTART:20230101T000000
END:STANDARD
END:VTIMEZONE
BEGIN:VEVENT
DTSTART;TZID=UTC:20250718T180000
DTEND;TZID=UTC:20250718T190000
DTSTAMP:20260421T154112
CREATED:20250524T152458Z
LAST-MODIFIED:20250524T152526Z
UID:32360-1752861600-1752865200@www.wclibraries.org
SUMMARY:After-Hours Poetry Reading
DESCRIPTION:After-Hours Poetry Reading is a relaxed gathering for teens and adults who love poetryâ€”or want to discover it. Bring a poem you wrote or one that moves you\, or just come to listen and enjoy. Thereâ€™s no pressure to perform; this is simply a space to share and connect through words. \nWhether youâ€™re new to poetry or have been writing for years\, everyoneâ€™s voice is welcome. Itâ€™s about appreciating language\, stories\, and emotions in a quiet\, thoughtful setting. \nHosted by former teen volunteer and current Seton Hill University English and Education major Maxwell Reese. \nRegistration Required.
URL:https://www.wclibraries.org/event/43585/
LOCATION:Penn Area Library\, 2001 Municipal Court\, Harrison City\, PA\, 15636\, United States
CATEGORIES:Arts & Culture,Library,Young Adult
END:VEVENT
BEGIN:VEVENT
DTSTART;TZID=UTC:20250602T170000
DTEND;TZID=UTC:20250602T180000
DTSTAMP:20260421T154112
CREATED:20250513T172407Z
LAST-MODIFIED:20250513T172530Z
UID:31598-1748883600-1748887200@www.wclibraries.org
SUMMARY:Foster House Fundraiser
DESCRIPTION:In support of Rostraver and Smithton Libraries\, from 5:00 pm – closing 15% of all dine-in and take-out orders will be donated to the library.\nLocation: Foster House II\, One Cook Rd.\, Belle Vernon\, PA 15012\nPhone: 724-929-7679
URL:https://www.wclibraries.org/event/42841/
LOCATION:Rostraver Public Library\, 700 Plaza Drive\, Belle Vernon\, PA\, 15012\, United States
CATEGORIES:Library
END:VEVENT
BEGIN:VEVENT
DTSTART;TZID=UTC:20250308T100000
DTEND;TZID=UTC:20250308T150000
DTSTAMP:20260421T154112
CREATED:20241204T232943Z
LAST-MODIFIED:20250104T181520Z
UID:24023-1741428000-1741446000@www.wclibraries.org
SUMMARY:Winter Hours
DESCRIPTION:Our Saturday hours will be 10:00am to 3:00pm through March 8.
URL:https://www.wclibraries.org/event/39215/
LOCATION:Delmont Public Library\, 75 School Rd\, Delmont\, PA\, 15626\, United States
CATEGORIES:Library
END:VEVENT
BEGIN:VEVENT
DTSTART;TZID=UTC:20240601T130000
DTEND;TZID=UTC:20240601T150000
DTSTAMP:20260421T154112
CREATED:20250721T150548Z
LAST-MODIFIED:19700101T050000Z
UID:32958-1717246800-1717254000@www.wclibraries.org
SUMMARY:Rebranding Focus Group
DESCRIPTION:WCFLS is building a marketing and communications strategy built to best serve the county-wide library community.  Please join us in our focus group\, discovery\, and feedback sessions to provide critical insights into your WCFLS experience.
URL:https://www.wclibraries.org/event/36537/
CATEGORIES:Library
END:VEVENT
BEGIN:VEVENT
DTSTART;TZID=UTC:20240601T100000
DTEND;TZID=UTC:20240601T120000
DTSTAMP:20260421T154112
CREATED:20250721T150548Z
LAST-MODIFIED:19700101T050000Z
UID:32957-1717236000-1717243200@www.wclibraries.org
SUMMARY:Rebranding Focus Group
DESCRIPTION:WCFLS is building a marketing and communications strategy built to best serve the county-wide library community.  Please join us in our focus group\, discovery\, and feedback sessions to provide critical insights into your WCFLS experience.
URL:https://www.wclibraries.org/event/36536/
CATEGORIES:Library
END:VEVENT
END:VCALENDAR