BEGIN:VCALENDAR
VERSION:2.0
PRODID:-//Westmoreland County Libraries - ECPv6.15.20//NONSGML v1.0//EN
CALSCALE:GREGORIAN
METHOD:PUBLISH
X-WR-CALNAME:Westmoreland County Libraries
X-ORIGINAL-URL:https://www.wclibraries.org
X-WR-CALDESC:Events for Westmoreland County Libraries
REFRESH-INTERVAL;VALUE=DURATION:PT1H
X-Robots-Tag:noindex
X-PUBLISHED-TTL:PT1H
BEGIN:VTIMEZONE
TZID:UTC
BEGIN:STANDARD
TZOFFSETFROM:+0000
TZOFFSETTO:+0000
TZNAME:UTC
DTSTART:20250101T000000
END:STANDARD
END:VTIMEZONE
BEGIN:VEVENT
DTSTART;TZID=UTC:20260514T180000
DTEND;TZID=UTC:20260514T193000
DTSTAMP:20260425T201925
CREATED:20260421T145859Z
LAST-MODIFIED:20260421T150051Z
UID:37577-1778781600-1778787000@www.wclibraries.org
SUMMARY:One Book\, One Community (And One Movie): Johnny Tremain
DESCRIPTION:From now until May 14 we’ll have multiple copies of Ester Forbes’ Johnny Tremain available for people to borrow. Then\, on May 14 we’ll meet up at the library to discuss the book and watch the Disney adaptation.\nThis work of historical fiction is set in Boston prior to and during the outbreak of the American Revolution. It follows a promising apprentice silversmith\, Johnny Tremain as he is drawn into the Revolutionary War\, and becomes a patriot fighting to free the colonies from England. Along the way he learns about life and about himself.\nStop on by for your copy today!
URL:https://www.wclibraries.org/event/48495/
LOCATION:Adams Memorial Library\, 1112 Ligonier Street\, Latrobe\, PA\, 15650\, United States
CATEGORIES:Adult Program,Community Event,Discussion Group
END:VEVENT
END:VCALENDAR