BEGIN:VCALENDAR
VERSION:2.0
PRODID:-//Westmoreland County Libraries - ECPv6.15.20//NONSGML v1.0//EN
CALSCALE:GREGORIAN
METHOD:PUBLISH
X-ORIGINAL-URL:https://www.wclibraries.org
X-WR-CALDESC:Events for Westmoreland County Libraries
REFRESH-INTERVAL;VALUE=DURATION:PT1H
X-Robots-Tag:noindex
X-PUBLISHED-TTL:PT1H
BEGIN:VTIMEZONE
TZID:UTC
BEGIN:STANDARD
TZOFFSETFROM:+0000
TZOFFSETTO:+0000
TZNAME:UTC
DTSTART:20250101T000000
END:STANDARD
END:VTIMEZONE
BEGIN:VEVENT
DTSTART;TZID=UTC:20260424T110000
DTEND;TZID=UTC:20260424T120000
DTSTAMP:20260425T133611
CREATED:20260323T140814Z
LAST-MODIFIED:20260323T140954Z
UID:37320-1777028400-1777032000@www.wclibraries.org
SUMMARY:Death in the Stacks Book Discussion Group
DESCRIPTION:Death in the Stacks is a book discussion group for mystery and thriller lovers\, exploring everything from cozy mysteries and hard-boiled detectives to psychological suspense and spy thrillers. If you enjoy great reads and lively conversation\, this is the group for you! \nThe group meets from 11 amâ€”12 pm on the 4th Friday of February\, April\, June\, August\, and October. Registration is strongly requested to ensure that we set up enough seats and that we order enough copies for participants who wish to borrow that monthâ€™s title from us. Walk-ins are always welcome! \nThis month\, we are reading The Seven Dials Mystery by Agatha Christie\, visit ligonierlibrary.org to register and reserve your copy.
URL:https://www.wclibraries.org/event/48255/
LOCATION:Ligonier Valley Library\, 120 West Main Street\, Ligonier\, PA\, 15668\, United States
CATEGORIES:Discussion Group
END:VEVENT
END:VCALENDAR