BEGIN:VCALENDAR
VERSION:2.0
PRODID:-//Westmoreland County Libraries - ECPv6.15.11//NONSGML v1.0//EN
CALSCALE:GREGORIAN
METHOD:PUBLISH
X-ORIGINAL-URL:https://www.wclibraries.org
X-WR-CALDESC:Events for Westmoreland County Libraries
REFRESH-INTERVAL;VALUE=DURATION:PT1H
X-Robots-Tag:noindex
X-PUBLISHED-TTL:PT1H
BEGIN:VTIMEZONE
TZID:UTC
BEGIN:STANDARD
TZOFFSETFROM:+0000
TZOFFSETTO:+0000
TZNAME:UTC
DTSTART:20250101T000000
END:STANDARD
END:VTIMEZONE
BEGIN:VEVENT
DTSTART;TZID=UTC:20260514T180000
DTEND;TZID=UTC:20260514T190000
DTSTAMP:20260420T153653
CREATED:20260420T141244Z
LAST-MODIFIED:20260420T141319Z
UID:37550-1778781600-1778785200@www.wclibraries.org
SUMMARY:Book & Craft: Flower Bouquet
DESCRIPTION:Make your own bouquet of flowers to celebrate Spring.  This craft is for children 5 & up\, so younger children will need help.\nTo register\, call the Childrenâ€™s Room at 724-537-4383 or stop by the Childrenâ€™s Room desk. \nRegistration Required.
URL:https://www.wclibraries.org/event/48468/
LOCATION:Adams Memorial Library\, 1112 Ligonier Street\, Latrobe\, PA\, 15650\, United States
CATEGORIES:Arts & Culture,Children's Program
END:VEVENT
BEGIN:VEVENT
DTSTART;TZID=UTC:20260516T140000
DTEND;TZID=UTC:20260516T170000
DTSTAMP:20260420T153653
CREATED:20260224T184231Z
LAST-MODIFIED:20260224T191221Z
UID:37096-1778940000-1778950800@www.wclibraries.org
SUMMARY:Dungeons & Dragons
DESCRIPTION:Take on the role of a fantasy hero and help tell your story in collaboration with fellow players and Dungeon Master\, Alyssa! No background in D&D? No problem! Come to learn about how it works and participate at your own pace. For 6th – 8th graders. The group meets the 1st and 3rd Saturdays of the month. Register for each session separately online @ www.murrysvillelibrary.org or call the library at 724-327-1102. If no openings area available\, make sure to register for the waiting list. Walk-ins will no longer be accepted. \nRegistration Required.
URL:https://www.wclibraries.org/event/48031/
LOCATION:Murrysville Community Library\, 4130 Sardis Road\, Murrysville\, PA\, 15668\, United States
CATEGORIES:Children's Program
END:VEVENT
BEGIN:VEVENT
DTSTART;TZID=UTC:20260519T173000
DTEND;TZID=UTC:20260519T183000
DTSTAMP:20260420T153653
CREATED:20260223T194348Z
LAST-MODIFIED:20260320T135207Z
UID:37072-1779211800-1779215400@www.wclibraries.org
SUMMARY:STEM Storytime
DESCRIPTION:Join us for storytime and a themed craft the 3rd Tuesday of each month\, with hands-on learning about science\, technology\, engineering\, and mathematics! Grades K – 4. Register online at www.murrysvillelibrary.org or call the library at 724-327-1102. Please register for each session separately. \nRegistration Required.
URL:https://www.wclibraries.org/event/48005/
LOCATION:Murrysville Community Library\, 4130 Sardis Road\, Murrysville\, PA\, 15668\, United States
CATEGORIES:Children's Program
END:VEVENT
BEGIN:VEVENT
DTSTART;TZID=UTC:20260530T130000
DTEND;TZID=UTC:20260530T140000
DTSTAMP:20260420T153653
CREATED:20251220T215426Z
LAST-MODIFIED:20260419T130448Z
UID:35598-1780146000-1780149600@www.wclibraries.org
SUMMARY:The Day the Crayons Quit and left the Library!
DESCRIPTION:The Crayons have left us! What are we going to do! We need to find them and ask them to come back to us at the Library- Join us for fun\, games and excitement as we help the Crayons from Drew Daywalt’s much loved books! Registration required. \nRegistration Required.
URL:https://www.wclibraries.org/event/46626/
LOCATION:Greensburg Hempfield Area Library\, 237 S. Pennsylvania Avenue\, Greensburg\, PA\, 15601\, United States
CATEGORIES:Children's Program
END:VEVENT
BEGIN:VEVENT
DTSTART;TZID=UTC:20260613T100000
DTEND;TZID=UTC:20260613T104500
DTSTAMP:20260420T153653
CREATED:20260417T151652Z
LAST-MODIFIED:20260417T151704Z
UID:37506-1781344800-1781347500@www.wclibraries.org
SUMMARY:Palabras & Play Storytime
DESCRIPTION:Come join Mr. Diego for a fun\, interactive\, bilingual storytime! Children and caregivers will learn Spanish together through storytime\, songs\, activities\, and play. Language learners of all experience levels are welcome. Register online at www.murrysvillelibrary.org or call the library at 724-327-1102. Ages 2 – 6 \nRegistration Required.
URL:https://www.wclibraries.org/event/48424/
LOCATION:Murrysville Community Library\, 4130 Sardis Road\, Murrysville\, PA\, 15668\, United States
CATEGORIES:Children's Program
END:VEVENT
BEGIN:VEVENT
DTSTART;TZID=UTC:20260613T110000
DTEND;TZID=UTC:20260613T120000
DTSTAMP:20260420T153653
CREATED:20260417T151953Z
LAST-MODIFIED:20260417T152123Z
UID:37507-1781348400-1781352000@www.wclibraries.org
SUMMARY:Universal Curiosity
DESCRIPTION:Learn why the universe works the way it does and discuss current events happening in space. For children ages 8 – 12\, facilitated by Franklin Regional student Roger Huang. Register online at www.murrysvillelibrary.org or call the library at 724-327-1102. \nRegistration Required.
URL:https://www.wclibraries.org/event/48425/
LOCATION:Murrysville Community Library\, 4130 Sardis Road\, Murrysville\, PA\, 15668\, United States
CATEGORIES:Children's Program
END:VEVENT
BEGIN:VEVENT
DTSTART;TZID=UTC:20260616T173000
DTEND;TZID=UTC:20260616T183000
DTSTAMP:20260420T153653
CREATED:20260417T161534Z
LAST-MODIFIED:20260417T161726Z
UID:37520-1781631000-1781634600@www.wclibraries.org
SUMMARY:STEM Storytime
DESCRIPTION:Join us for storytime and a themed craft the 3rd Tuesday of each month\, with hands-on learning about science\, technology\, engineering\, and mathematics! Grades K – 4. Register online at www.murrysvillelibrary.org or call the library at 724-327-1102. Please register for each session separately. \nRegistration Required.
URL:https://www.wclibraries.org/event/48438/
LOCATION:Murrysville Community Library\, 4130 Sardis Road\, Murrysville\, PA\, 15668\, United States
CATEGORIES:Children's Program
END:VEVENT
BEGIN:VEVENT
DTSTART;TZID=UTC:20260620T140000
DTEND;TZID=UTC:20260620T170000
DTSTAMP:20260420T153653
CREATED:20260417T145823Z
LAST-MODIFIED:20260417T145845Z
UID:37495-1781964000-1781974800@www.wclibraries.org
SUMMARY:Dungeons & Dragons
DESCRIPTION:Take on the role of a fantasy hero and help tell your story in collaboration with fellow players and Dungeon Master\, Alyssa! No background in D&D? No problem! Come to learn about how it works and participate at your own pace. For 6th – 8th graders. The group meets the 1st and 3rd Saturdays of the month. Register for each session separately online @ www.murrysvillelibrary.org or call the library at 724-327-1102. If no openings area available\, make sure to register for the waiting list. Walk-ins will no longer be accepted. \nRegistration Required.
URL:https://www.wclibraries.org/event/48413/
LOCATION:Murrysville Community Library\, 4130 Sardis Road\, Murrysville\, PA\, 15668\, United States
CATEGORIES:Children's Program
END:VEVENT
END:VCALENDAR