BEGIN:VCALENDAR
VERSION:2.0
PRODID:-//Westmoreland County Libraries - ECPv6.15.11//NONSGML v1.0//EN
CALSCALE:GREGORIAN
METHOD:PUBLISH
X-ORIGINAL-URL:https://www.wclibraries.org
X-WR-CALDESC:Events for Westmoreland County Libraries
REFRESH-INTERVAL;VALUE=DURATION:PT1H
X-Robots-Tag:noindex
X-PUBLISHED-TTL:PT1H
BEGIN:VTIMEZONE
TZID:UTC
BEGIN:STANDARD
TZOFFSETFROM:+0000
TZOFFSETTO:+0000
TZNAME:UTC
DTSTART:20250101T000000
END:STANDARD
END:VTIMEZONE
BEGIN:VEVENT
DTSTART;TZID=UTC:20260119T183000
DTEND;TZID=UTC:20260119T200000
DTSTAMP:20260421T161750
CREATED:20251024T183328Z
LAST-MODIFIED:20251118T140907Z
UID:34828-1768847400-1768852800@www.wclibraries.org
SUMMARY:Pages from the Past Book Club
DESCRIPTION:Historical and Non-fiction for adults. This event is now held on the 3rd Monday of each month at 6:30 p.m.  Book selection for this month is SPQR by Mary Beard.  Register online at www.murrysvillelibrary.org or call the library at 724-327-1102. \nRegistration Required.
URL:https://www.wclibraries.org/event/45884/
LOCATION:Murrysville Community Library\, 4130 Sardis Road\, Murrysville\, PA\, 15668\, United States
CATEGORIES:Adult Program
END:VEVENT
BEGIN:VEVENT
DTSTART;TZID=UTC:20260120T140000
DTEND;TZID=UTC:20260120T153000
DTSTAMP:20260421T161750
CREATED:20251027T144017Z
LAST-MODIFIED:20260120T144204Z
UID:34849-1768917600-1768923000@www.wclibraries.org
SUMMARY:MEETING POSTPONED TILL FEBRUARY Tuesday Afternoon Book Group
DESCRIPTION:POSTPONED TO NEXT MONTH DUE TO THE INCLEMENT WEATHER. The group meets the third Tuesday afternoon of each month. The book for January’s discussion is:  By Any Other Name\, by Jodi Picoult.   \nRegistration Required.
URL:https://www.wclibraries.org/event/45905/
LOCATION:Murrysville Community Library\, 4130 Sardis Road\, Murrysville\, PA\, 15668\, United States
CATEGORIES:Adult Program
END:VEVENT
BEGIN:VEVENT
DTSTART;TZID=UTC:20260122T190000
DTEND;TZID=UTC:20260122T200000
DTSTAMP:20260421T161750
CREATED:20251027T150740Z
LAST-MODIFIED:20251027T152230Z
UID:34861-1769108400-1769112000@www.wclibraries.org
SUMMARY:Library Foundation Board Meeting
DESCRIPTION:The Library Foundation Board meets the 4th Thursday of each month at 7:00 p.m. in the Technook space. If you cannot make it to a meeting in person\, a virtual option is available.
URL:https://www.wclibraries.org/event/45917/
LOCATION:Murrysville Community Library\, 4130 Sardis Road\, Murrysville\, PA\, 15668\, United States
CATEGORIES:Adult Program
END:VEVENT
BEGIN:VEVENT
DTSTART;TZID=UTC:20260124T100000
DTEND;TZID=UTC:20260124T120000
DTSTAMP:20260421T161750
CREATED:20260421T185301Z
LAST-MODIFIED:20260421T185328Z
UID:37589-1769248800-1769256000@www.wclibraries.org
SUMMARY:Mah Jongg
DESCRIPTION:For both experienced and beginning Mah Jongg players. Sets and cards\nprovided\, but players may bring their own.
URL:https://www.wclibraries.org/event/47325/
LOCATION:Greensburg Hempfield Area Library\, 237 S. Pennsylvania Avenue\, Greensburg\, PA\, 15601\, United States
CATEGORIES:Adult Program
END:VEVENT
BEGIN:VEVENT
DTSTART;TZID=UTC:20260126T100000
DTEND;TZID=UTC:20260126T120000
DTSTAMP:20260421T161750
CREATED:20251024T181844Z
LAST-MODIFIED:20260124T195851Z
UID:34823-1769421600-1769428800@www.wclibraries.org
SUMMARY:CANCELLED DUE TO THE WEATHER - Library Knitters
DESCRIPTION:CANCELLED TODAY DUE TO THE WEATHER – The library knitters meet every other Monday from 10:00 a.m. to 12:00 p.m. in conference room 1. No registration required. Bring your favorite craft and join in on the fun.
URL:https://www.wclibraries.org/event/45879/
LOCATION:Murrysville Community Library\, 4130 Sardis Road\, Murrysville\, PA\, 15668\, United States
CATEGORIES:Adult Program
END:VEVENT
BEGIN:VEVENT
DTSTART;TZID=UTC:20260127T180000
DTEND;TZID=UTC:20260127T190000
DTSTAMP:20260421T161750
CREATED:20251129T164131Z
LAST-MODIFIED:20260127T214546Z
UID:35266-1769536800-1769540400@www.wclibraries.org
SUMMARY:CANCELLED Inked & Glued
DESCRIPTION:Bring your favorite journal or planner to explore creative journaling\, mindful planning\, and everything in-between. Meet others who love paper crafts\, design\, and artistic expression in a casual creative space. Register online at www.murrysvillelibrary.org or call the library at 724-327-1102. \nRegistration Required.
URL:https://www.wclibraries.org/event/46295/
LOCATION:Murrysville Community Library\, 4130 Sardis Road\, Murrysville\, PA\, 15668\, United States
CATEGORIES:Adult Program
END:VEVENT
BEGIN:VEVENT
DTSTART;TZID=UTC:20260131T100000
DTEND;TZID=UTC:20260131T120000
DTSTAMP:20260421T161750
CREATED:20260421T185301Z
LAST-MODIFIED:20260421T185328Z
UID:37590-1769853600-1769860800@www.wclibraries.org
SUMMARY:Mah Jongg
DESCRIPTION:For both experienced and beginning Mah Jongg players. Sets and cards\nprovided\, but players may bring their own.
URL:https://www.wclibraries.org/event/47326/
LOCATION:Greensburg Hempfield Area Library\, 237 S. Pennsylvania Avenue\, Greensburg\, PA\, 15601\, United States
CATEGORIES:Adult Program
END:VEVENT
BEGIN:VEVENT
DTSTART;TZID=UTC:20260203T183000
DTEND;TZID=UTC:20260203T200000
DTSTAMP:20260421T161750
CREATED:20251107T172456Z
LAST-MODIFIED:20251111T175856Z
UID:34926-1770143400-1770148800@www.wclibraries.org
SUMMARY:Chai Time with Books
DESCRIPTION:Are you an adult who enjoys reading Young Adult and Middle Grade fiction? Join this book club on the 1st Tuesday of the month at 6:30-8pm. Join the host Tiff Parker and fellow readers for a fun discussion\, along with some cozy chai tea. This month’s book is A Home for Goddesses and Dogs by Leslie Connor. Register online at www.murrysvillelibrary.org or call the library at 724-327-1102. \nRegistration Required.
URL:https://www.wclibraries.org/event/45981/
LOCATION:Murrysville Community Library\, 4130 Sardis Road\, Murrysville\, PA\, 15668\, United States
CATEGORIES:Adult Program
END:VEVENT
BEGIN:VEVENT
DTSTART;TZID=UTC:20260207T100000
DTEND;TZID=UTC:20260207T120000
DTSTAMP:20260421T161750
CREATED:20260421T185301Z
LAST-MODIFIED:20260421T185328Z
UID:37591-1770458400-1770465600@www.wclibraries.org
SUMMARY:Mah Jongg
DESCRIPTION:For both experienced and beginning Mah Jongg players. Sets and cards\nprovided\, but players may bring their own.
URL:https://www.wclibraries.org/event/47327/
LOCATION:Greensburg Hempfield Area Library\, 237 S. Pennsylvania Avenue\, Greensburg\, PA\, 15601\, United States
CATEGORIES:Adult Program
END:VEVENT
BEGIN:VEVENT
DTSTART;TZID=UTC:20260212T100000
DTEND;TZID=UTC:20260212T120000
DTSTAMP:20260421T161750
CREATED:20250812T174950Z
LAST-MODIFIED:20260202T200744Z
UID:33399-1770890400-1770897600@www.wclibraries.org
SUMMARY:AAUW Speaker Series
DESCRIPTION:The Murrysville AAUW will host a special speaker each month as part of their monthly meetings. The Speaker for February is Philip Nash\, PhD\, Professor of History\, Penn State Shenango. This event is free and open to all members of the community. Registration is not required.   In January and February\, the program will take place in council chambers in the Municipal Building downstairs from the library.
URL:https://www.wclibraries.org/event/44548/
LOCATION:Murrysville Community Library\, 4130 Sardis Road\, Murrysville\, PA\, 15668\, United States
CATEGORIES:Adult Program
END:VEVENT
BEGIN:VEVENT
DTSTART;TZID=UTC:20260214T100000
DTEND;TZID=UTC:20260214T120000
DTSTAMP:20260421T161750
CREATED:20260421T185301Z
LAST-MODIFIED:20260421T185328Z
UID:37592-1771063200-1771070400@www.wclibraries.org
SUMMARY:Mah Jongg
DESCRIPTION:For both experienced and beginning Mah Jongg players. Sets and cards\nprovided\, but players may bring their own.
URL:https://www.wclibraries.org/event/47328/
LOCATION:Greensburg Hempfield Area Library\, 237 S. Pennsylvania Avenue\, Greensburg\, PA\, 15601\, United States
CATEGORIES:Adult Program
END:VEVENT
BEGIN:VEVENT
DTSTART;TZID=UTC:20260214T130000
DTEND;TZID=UTC:20260214T143000
DTSTAMP:20260421T161750
CREATED:20251216T152143Z
LAST-MODIFIED:20260120T140854Z
UID:35363-1771074000-1771079400@www.wclibraries.org
SUMMARY:Plant-Based Nutrition
DESCRIPTION:The group meets the 2nd Saturday of each month.  The program will be held offsite in January and February.  This month’s program will be a Valentine’s Day Potluck\, friends and family are welcome.  The meeting will take place at Newlonsburg Presbyterian Church from 1:00pm – 2:30pm.  Register online at www.murrysvillelibrary.org or call the library at 724-327-1102. \nRegistration Required.
URL:https://www.wclibraries.org/event/46391/
LOCATION:Murrysville Community Library\, 4130 Sardis Road\, Murrysville\, PA\, 15668\, United States
CATEGORIES:Adult Program
END:VEVENT
BEGIN:VEVENT
DTSTART;TZID=UTC:20260217T140000
DTEND;TZID=UTC:20260217T153000
DTSTAMP:20260421T161750
CREATED:20251027T144610Z
LAST-MODIFIED:20260209T144405Z
UID:34851-1771336800-1771342200@www.wclibraries.org
SUMMARY:Tuesday Afternoon Book Group
DESCRIPTION:The group meets the third Tuesday afternoon of each month.  The books for February’s discussion are:  By Any Other Name\, by Jodi Picoult and The River is Waiting\, by Wally Lamb. \nRegistration Required.
URL:https://www.wclibraries.org/event/45907/
LOCATION:Murrysville Community Library\, 4130 Sardis Road\, Murrysville\, PA\, 15668\, United States
CATEGORIES:Adult Program
END:VEVENT
BEGIN:VEVENT
DTSTART;TZID=UTC:20260219T110000
DTEND;TZID=UTC:20260219T123000
DTSTAMP:20260421T161750
CREATED:20251027T143810Z
LAST-MODIFIED:20251125T144243Z
UID:34848-1771498800-1771504200@www.wclibraries.org
SUMMARY:Thursday Morning Book Group
DESCRIPTION:The group meets the third Thursday of each month. The book for February’s discussion is:  The Briar Club\, by Kate Quinn. \nRegistration Required.
URL:https://www.wclibraries.org/event/45904/
LOCATION:Murrysville Community Library\, 4130 Sardis Road\, Murrysville\, PA\, 15668\, United States
CATEGORIES:Adult Program
END:VEVENT
BEGIN:VEVENT
DTSTART;TZID=UTC:20260219T140000
DTEND;TZID=UTC:20260219T160000
DTSTAMP:20260421T161750
CREATED:20260128T174401Z
LAST-MODIFIED:20260128T174430Z
UID:36560-1771509600-1771516800@www.wclibraries.org
SUMMARY:Beginners' Painting Class
DESCRIPTION:This program provides adults with a lesson in basic painting techniques. Each adult will go home with a unique canvas art piece they create. All supplies are provided and no experience is necessary. Registration is required!  \nRegistration Required.
URL:https://www.wclibraries.org/event/47522/
LOCATION:Penn Area Library\, 2001 Municipal Court\, Harrison City\, PA\, 15636\, United States
CATEGORIES:Adult Program
END:VEVENT
BEGIN:VEVENT
DTSTART;TZID=UTC:20260221T100000
DTEND;TZID=UTC:20260221T120000
DTSTAMP:20260421T161750
CREATED:20260421T185301Z
LAST-MODIFIED:20260421T185328Z
UID:37593-1771668000-1771675200@www.wclibraries.org
SUMMARY:Mah Jongg
DESCRIPTION:For both experienced and beginning Mah Jongg players. Sets and cards\nprovided\, but players may bring their own.
URL:https://www.wclibraries.org/event/47329/
LOCATION:Greensburg Hempfield Area Library\, 237 S. Pennsylvania Avenue\, Greensburg\, PA\, 15601\, United States
CATEGORIES:Adult Program
END:VEVENT
BEGIN:VEVENT
DTSTART;TZID=UTC:20260227T100000
DTEND;TZID=UTC:20260227T110000
DTSTAMP:20260421T161750
CREATED:20260220T214820Z
LAST-MODIFIED:20260220T214830Z
UID:36886-1772186400-1772190000@www.wclibraries.org
SUMMARY:Tech Class: Cyber Security
DESCRIPTION:Join us to learn the basics of cyber security and how to protect yourself and your personal information when working with modern technology. \nRegistration Required.
URL:https://www.wclibraries.org/event/47828/
LOCATION:Youngwood Area Public Library
CATEGORIES:Adult Program
END:VEVENT
BEGIN:VEVENT
DTSTART;TZID=UTC:20260228T100000
DTEND;TZID=UTC:20260228T120000
DTSTAMP:20260421T161750
CREATED:20260421T185301Z
LAST-MODIFIED:20260421T185328Z
UID:37594-1772272800-1772280000@www.wclibraries.org
SUMMARY:Mah Jongg
DESCRIPTION:For both experienced and beginning Mah Jongg players. Sets and cards\nprovided\, but players may bring their own.
URL:https://www.wclibraries.org/event/47330/
LOCATION:Greensburg Hempfield Area Library\, 237 S. Pennsylvania Avenue\, Greensburg\, PA\, 15601\, United States
CATEGORIES:Adult Program
END:VEVENT
BEGIN:VEVENT
DTSTART;TZID=UTC:20260302T183000
DTEND;TZID=UTC:20260302T200000
DTSTAMP:20260421T161750
CREATED:20251125T150551Z
LAST-MODIFIED:20260213T160537Z
UID:35247-1772476200-1772481600@www.wclibraries.org
SUMMARY:Socrates Cafe
DESCRIPTION:Socrates Cafe is an affiliate of the Society of Philosophical Inquiry. New members are always welcome. We believe a diversity of opinion is important for a true exchange of ideas. The topic for discussion this month is Living Wage – is it desirable or feasible in a Capitalistic system?  The group meets the first Monday of each month. Register online at www.murrysvillelibrary.org or call the library at 724-327-1102. \nRegistration Required.
URL:https://www.wclibraries.org/event/46276/
LOCATION:Murrysville Community Library\, 4130 Sardis Road\, Murrysville\, PA\, 15668\, United States
CATEGORIES:Adult Program
END:VEVENT
BEGIN:VEVENT
DTSTART;TZID=UTC:20260303T183000
DTEND;TZID=UTC:20260303T200000
DTSTAMP:20260421T161750
CREATED:20251107T172554Z
LAST-MODIFIED:20260224T174002Z
UID:34927-1772562600-1772568000@www.wclibraries.org
SUMMARY:CANCELLED  - Chai Time with Books
DESCRIPTION:CANCELLED –  Are you an adult who enjoys reading Young Adult and Middle Grade fiction? Join this book club on the 1st Tuesday of the month at 6:30-8pm. Join the host Tiff Parker and fellow readers for a fun discussion\, along with some cozy chai tea. This month’s book is Matilda by Roald Dahl. Register online at www.murrysvillelibrary.org or call the library at 724-327-1102. \nRegistration Required.
URL:https://www.wclibraries.org/event/45982/
LOCATION:Murrysville Community Library\, 4130 Sardis Road\, Murrysville\, PA\, 15668\, United States
CATEGORIES:Adult Program
END:VEVENT
BEGIN:VEVENT
DTSTART;TZID=UTC:20260304T183000
DTEND;TZID=UTC:20260304T193000
DTSTAMP:20260421T161750
CREATED:20260214T171518Z
LAST-MODIFIED:20260220T170800Z
UID:36757-1772649000-1772652600@www.wclibraries.org
SUMMARY:Native Wildflowers
DESCRIPTION:Guides from the Braddock’s Trail Wildflower walks will explain which flowers are blooming on Braddock’s Trail\, how to identify them and how to enjoy all that Braddock’s Trail has to offer.\nThe program is FREE\, but registration is requested.\nPlease visit www.norwinpubliclibrary.net\nor call 724-863-4700 x3 to register.   \nThe library is located at 100 Caruthers Lane\, Irwin. \nRegistration Required.
URL:https://www.wclibraries.org/event/47706/
LOCATION:Norwin Public Library\, 100 Caruthers Lane\, Irwin\, PA\, 15642\, United States
CATEGORIES:Adult Program
END:VEVENT
BEGIN:VEVENT
DTSTART;TZID=UTC:20260307T100000
DTEND;TZID=UTC:20260307T120000
DTSTAMP:20260421T161750
CREATED:20260421T185301Z
LAST-MODIFIED:20260421T185328Z
UID:37595-1772877600-1772884800@www.wclibraries.org
SUMMARY:Mah Jongg
DESCRIPTION:For both experienced and beginning Mah Jongg players. Sets and cards\nprovided\, but players may bring their own.
URL:https://www.wclibraries.org/event/47331/
LOCATION:Greensburg Hempfield Area Library\, 237 S. Pennsylvania Avenue\, Greensburg\, PA\, 15601\, United States
CATEGORIES:Adult Program
END:VEVENT
BEGIN:VEVENT
DTSTART;TZID=UTC:20260307T170000
DTEND;TZID=UTC:20260307T210000
DTSTAMP:20260421T161750
CREATED:20260221T175103Z
LAST-MODIFIED:20260221T175129Z
UID:36973-1772902800-1772917200@www.wclibraries.org
SUMMARY:Get Lucky Gift Card Giveaway
DESCRIPTION:Our Gift Card Fundraiser will take place at\nYinzer Valley Farms\n681 Mulberry Hill Rd\, Mt Pleasant\, PA 15666\nWith Live Music\, a 50/50 Drawing\, and Pull Tab Games\n$5 Tickets Each with Two Gift Card Draw Numbers Can be purchased at the Library Starting Feb 1\nFood and Drink can be purchased at the event for an additional fee\nYou neednâ€™t be in attendance to receive gift card prizes\, they may be claimed at the library up until April 1
URL:https://www.wclibraries.org/event/47915/
LOCATION:Mount Pleasant Public Library\, 120 S. Church Street\, Mount Pleasant\, PA\, 15666\, United States
CATEGORIES:Adult Program
END:VEVENT
BEGIN:VEVENT
DTSTART;TZID=UTC:20260310T140000
DTEND;TZID=UTC:20260310T160000
DTSTAMP:20260421T161750
CREATED:20260128T174707Z
LAST-MODIFIED:20260310T133916Z
UID:36561-1773151200-1773158400@www.wclibraries.org
SUMMARY:Beginners' Painting Class
DESCRIPTION:This program provides adults with a lesson in basic painting techniques. Each adult will go home with a unique canvas art piece they create. All supplies are provided and no experience is necessary. Registration for each individual class is required!  \nRegistration Required.
URL:https://www.wclibraries.org/event/47523/
LOCATION:Penn Area Library\, 2001 Municipal Court\, Harrison City\, PA\, 15636\, United States
CATEGORIES:Adult Program
END:VEVENT
BEGIN:VEVENT
DTSTART;TZID=UTC:20260310T180000
DTEND;TZID=UTC:20260310T190000
DTSTAMP:20260421T161750
CREATED:20260214T172506Z
LAST-MODIFIED:20260214T172620Z
UID:36758-1773165600-1773169200@www.wclibraries.org
SUMMARY:Shamrock Roots
DESCRIPTION:“Shamrock Roots” is an Irish heritage/genealogy program that explains the rich Irish culture and its impact on American history. \nIt will demonstrate how Irish- Americans can begin to trace their ancestral “roots” from home\, and plan a heritage trip to Ireland. \nParticipants will receive take-home materials.\nThe program is free\, but registration is required.  Please register at www.norwinpubliclibrary.net\,  stop by the front desk or call\n 724-863-4700 x3.  The library is located at 100 Caruthers Lane\, Irwin. \nRegistration Required.
URL:https://www.wclibraries.org/event/47707/
LOCATION:Norwin Public Library\, 100 Caruthers Lane\, Irwin\, PA\, 15642\, United States
CATEGORIES:Adult Program
END:VEVENT
BEGIN:VEVENT
DTSTART;TZID=UTC:20260312T100000
DTEND;TZID=UTC:20260312T120000
DTSTAMP:20260421T161750
CREATED:20250812T181715Z
LAST-MODIFIED:20260213T164825Z
UID:33400-1773309600-1773316800@www.wclibraries.org
SUMMARY:AAUW Speaker Series
DESCRIPTION:The Murrysville AAUW will host a special speaker each month as part of their monthly meetings. The Speaker for March is Mr. Tom White\, Forgotten Tales of Pittsburgh. This event is free and open to all members of the community. Registration is not required.   In March and April\, the program will take place in council chambers in the Municipal Building downstairs from the library.
URL:https://www.wclibraries.org/event/44549/
LOCATION:Murrysville Community Library\, 4130 Sardis Road\, Murrysville\, PA\, 15668\, United States
CATEGORIES:Adult Program
END:VEVENT
BEGIN:VEVENT
DTSTART;TZID=UTC:20260314T100000
DTEND;TZID=UTC:20260314T120000
DTSTAMP:20260421T161750
CREATED:20260421T185301Z
LAST-MODIFIED:20260421T185328Z
UID:37596-1773482400-1773489600@www.wclibraries.org
SUMMARY:Mah Jongg
DESCRIPTION:For both experienced and beginning Mah Jongg players. Sets and cards\nprovided\, but players may bring their own.
URL:https://www.wclibraries.org/event/47332/
LOCATION:Greensburg Hempfield Area Library\, 237 S. Pennsylvania Avenue\, Greensburg\, PA\, 15601\, United States
CATEGORIES:Adult Program
END:VEVENT
BEGIN:VEVENT
DTSTART;TZID=UTC:20260314T130000
DTEND;TZID=UTC:20260314T143000
DTSTAMP:20260421T161750
CREATED:20260127T165957Z
LAST-MODIFIED:20260217T195017Z
UID:36540-1773493200-1773498600@www.wclibraries.org
SUMMARY:Plant-Based Nutrition
DESCRIPTION:The group meets the 2nd Saturday of each month.  Register online at www.murrysvillelibrary.org or call the library at 724-327-1102. They will meet in the library in Conference Room 1.  Programming details to follow. \nRegistration Required.
URL:https://www.wclibraries.org/event/47502/
LOCATION:Murrysville Community Library\, 4130 Sardis Road\, Murrysville\, PA\, 15668\, United States
CATEGORIES:Adult Program
END:VEVENT
BEGIN:VEVENT
DTSTART;TZID=UTC:20260316T170000
DTEND;TZID=UTC:20260316T180000
DTSTAMP:20260421T161750
CREATED:20260206T152302Z
LAST-MODIFIED:20260206T152339Z
UID:36705-1773680400-1773684000@www.wclibraries.org
SUMMARY:Monday Meditation
DESCRIPTION:A warm welcome to our Monday night meditation experience! Facilitated by Eric D. Biseca\, N.D.\, we are opening the conference room for both beginners and experienced folks who want to explore conscious breathwork\, self-awareness and mindfulness in a secular and comfortable format. The facilitation will allow for instruction\, reflection\, and brief discussion while promoting community culture around mindfulness. We are excited to begin and look forward to all that can participate! Register online at www.murrysvillelibrary.org or call the library at 724-327-1102. \nRegistration Required.
URL:https://www.wclibraries.org/event/47654/
LOCATION:Murrysville Community Library\, 4130 Sardis Road\, Murrysville\, PA\, 15668\, United States
CATEGORIES:Adult Program
END:VEVENT
BEGIN:VEVENT
DTSTART;TZID=UTC:20260316T183000
DTEND;TZID=UTC:20260316T193000
DTSTAMP:20260421T161750
CREATED:20260112T195145Z
LAST-MODIFIED:20260112T195228Z
UID:36375-1773685800-1773689400@www.wclibraries.org
SUMMARY:Pages from the Past Book Club
DESCRIPTION:Historical and Non-fiction for adults. This event is now held on the 3rd Monday of each month at 6:30 p.m. Book selection for this month is Pale Rider.  Register online at www.murrysvillelibrary.org or call the library at 724-327-1102. \nRegistration Required.
URL:https://www.wclibraries.org/event/47376/
LOCATION:Murrysville Community Library\, 4130 Sardis Road\, Murrysville\, PA\, 15668\, United States
CATEGORIES:Adult Program
END:VEVENT
END:VCALENDAR